BEGIN:VCALENDAR
VERSION:2.0
PRODID:-//Folkalender - ECPv6.10.1.1//NONSGML v1.0//EN
CALSCALE:GREGORIAN
METHOD:PUBLISH
X-ORIGINAL-URL:https://folkalender.dk
X-WR-CALDESC:Begivenheder for Folkalender
REFRESH-INTERVAL;VALUE=DURATION:PT1H
X-Robots-Tag:noindex
X-PUBLISHED-TTL:PT1H
BEGIN:VTIMEZONE
TZID:Europe/Helsinki
BEGIN:DAYLIGHT
TZOFFSETFROM:+0200
TZOFFSETTO:+0300
TZNAME:EEST
DTSTART:20230326T010000
END:DAYLIGHT
BEGIN:STANDARD
TZOFFSETFROM:+0300
TZOFFSETTO:+0200
TZNAME:EET
DTSTART:20231029T010000
END:STANDARD
END:VTIMEZONE
BEGIN:VEVENT
DTSTART;TZID=Europe/Helsinki:20230322T193000
DTEND;TZID=Europe/Helsinki:20230322T213000
DTSTAMP:20260421T101824
CREATED:20230314T121825Z
LAST-MODIFIED:20230314T121825Z
UID:5962-1679513400-1679520600@folkalender.dk
SUMMARY:Barani
DESCRIPTION:Barani giver dig folkemusikkens drive og spilleglæde kombineret med farverige melodier i et gribende klangunivers!\nDer er gratis entré!
URL:https://folkalender.dk/arrangement/barani/
LOCATION:Vrigsted Kirke\, Koksfourt 1K\, Stouby\, 7140
CATEGORIES:Koncert
ATTACH;FMTTYPE=image/jpeg:https://folkalender.dk/wp-content/uploads/2023/03/Staaende-sort-scaled.jpg
GEO:55.7312202;9.841676
X-APPLE-STRUCTURED-LOCATION;VALUE=URI;X-ADDRESS=Vrigsted Kirke Koksfourt 1K Stouby 7140;X-APPLE-RADIUS=500;X-TITLE=Koksfourt 1K:geo:9.841676,55.7312202
END:VEVENT
END:VCALENDAR