BEGIN:VCALENDAR
VERSION:2.0
PRODID:-//Folkalender - ECPv6.10.1.1//NONSGML v1.0//EN
CALSCALE:GREGORIAN
METHOD:PUBLISH
X-WR-CALNAME:Folkalender
X-ORIGINAL-URL:https://folkalender.dk
X-WR-CALDESC:Begivenheder for Folkalender
REFRESH-INTERVAL;VALUE=DURATION:PT1H
X-Robots-Tag:noindex
X-PUBLISHED-TTL:PT1H
BEGIN:VTIMEZONE
TZID:Europe/Helsinki
BEGIN:DAYLIGHT
TZOFFSETFROM:+0200
TZOFFSETTO:+0300
TZNAME:EEST
DTSTART:20230326T010000
END:DAYLIGHT
BEGIN:STANDARD
TZOFFSETFROM:+0300
TZOFFSETTO:+0200
TZNAME:EET
DTSTART:20231029T010000
END:STANDARD
END:VTIMEZONE
BEGIN:VEVENT
DTSTART;TZID=Europe/Helsinki:20230317T150000
DTEND;TZID=Europe/Helsinki:20230317T180000
DTSTAMP:20260421T072648
CREATED:20230213T110638Z
LAST-MODIFIED:20230213T110804Z
UID:5701-1679065200-1679076000@folkalender.dk
SUMMARY:Copenhagen St. Patrick’s Day Parade 2023
DESCRIPTION:”Everyone is Irish on St. Patrick’s Day!”  \nRådhuspladsen i København kommer til at emme af irsk stemning d. 17 marts\, når der traditionen tro fejres St. Patrick’s Day\,  den irske nationaldag. Eftermiddagen byder på et forrygende show med irsk folkemusik og dans. Det hele kulminerer i et stort grønt festoptog med Copenhagen Showband. \nTil Copenhagen St. Patrick’s Day Parade er sloganet ”Everyone is Irish on St. Patrick’s Day” og det betyder at alle er velkomne til at deltage.  Eneste forudsætning for at være med i paraden er\, at man bærer noget grønt: et tørklæde\, en hat\, paraply\, sokker\, eller ballon. Kun fantasien sætter grænser. \nPROGRAM på Rådhuspladsen:\n13.00 – 18.00 Irsk pub\n15.00 – 17.00 Ansigtsmaling for børn\n15.30 – 17.00 Show med irsk musik og dans\n17.00 – 17.40 Parade \nArrangementet starter midt på eftermiddagen med musik og dans på open-air scenen. The Early House spiller irsk folkemusik med høj energi og masser af swing. Bandet består af  balladesanger Colm Doyle\, Paddy Lawless på fiddle\, Lars Nilsson på harmonika Daniel Johansson på bouzouki. Eleverne fra Dark Green School of Irish Dancing optræder med irsk dans. En dansestil\,  der siden Irland præsenterede hele verden for showet Riverdance i 1997\, er blevet populær  langt udover Irlands grænser. Også  Copenhagen Irish Set Dancers er på scenen med  traditionel stepdans  kaldet ”sean nós”\, der er gælisk for ”old style. De er en forening  i København\, der udover sean nós\,  dyrker den irske kvadrilledans.\nShowet præsenteres af  Ian Burns\, der i rollen som St. Patrick også vil lede paraden gennem byen.  Ian Burns er skuespiller og instruktør i det engelsksprogede teaterkompagni That Theatre\, der blandt andet opfører værker af irske forfattere.  \nI teltet på Rådhuspladsen  kan børnene få en helt særlig St. Patrick’s Day ansigtsmaling. Den irske stemning kan også nydes med en  Irish Coffee fra Tullamore Dew\, varm kakao eller en af de flot pyntede St. Patrick’s Day cookies. Man kan også prøve en af de irske øl fra det lokale bryggeri O’Hara’s Craft Beers i Carlow\, Irland\, der har stor fokus på miljøvenlig og bæredygtig produktion. \nParaden – det grønne festoptog\nParaden promenerede  første gang igennem Indre Bys gader  d. 17. marts 2005. Forskellige paradebands har været med til at gøre optoget ekstra  festligt.  Her  i 2023 fører  Copenhagen Showband det folkelige grønne optog gennem byen med deres swingende underholdningsmusik. Traditionenen tro medvirker også Bodhrán orkester med den irske håndtromme\,  Dark Green School of Irish Dancing\,  Irske ulvehunde og Gaelic Athletic Association.  Paraden føres an af St. Patrick. \nHvorfor grønt?\nIrlands nationaldag\, der har sit navn efter den irske skytshelgen Saint Patrick\, fejres verden over som en irsk kulturfest. Det siges at St. Patrick udbredte Kristendommen til befolkningen ved hjælp af den lille trebladede grønne urt  shamrock\, der skulle symbolisere treenigheden. Irland kalder mange også for “Den grønne ø”. Derfor bruges farven grøn og shamrock’en til at sætte kulør på fejringen af dagen. \nCopenhagen St. Patrick’s Day Parade er en unik mulighed for at opleve den irske kultur med venner og familie\, måske som ”irer for en dag”.
URL:https://folkalender.dk/arrangement/copenhagen-st-patricks-day-parade-2023/
LOCATION:Rådhuspladsen\, København\, Rådhuspladsen\, Købehavn\, 1599
CATEGORIES:Festival,Koncert
ATTACH;FMTTYPE=image/jpeg:https://folkalender.dk/wp-content/uploads/2023/02/Cph_st_patricksday_parade_banner-scaled.jpg
ORGANIZER;CN="Copenhagen St. Patrick's Day Parade":MAILTO:info@stpatricksdayparade.dk
GEO:55.6763101;12.5693733
X-APPLE-STRUCTURED-LOCATION;VALUE=URI;X-ADDRESS=Rådhuspladsen København Rådhuspladsen Købehavn 1599;X-APPLE-RADIUS=500;X-TITLE=Rådhuspladsen:geo:12.5693733,55.6763101
END:VEVENT
BEGIN:VEVENT
DTSTART;TZID=Europe/Helsinki:20230317T200000
DTEND;TZID=Europe/Helsinki:20230317T223000
DTSTAMP:20260421T072648
CREATED:20230123T215409Z
LAST-MODIFIED:20230123T215409Z
UID:5513-1679083200-1679092200@folkalender.dk
SUMMARY:Tradish m. danser Gunilla Odsbøl
DESCRIPTION:Hvidovre Musikråd fejrer Skt. Patricks dag sammen med Tradish og deres danser\, Gunilla. \nSiden de blev dannet i 2009\, har Tradish optrådt på hundredvis af scener på tværs af Europa. Bandet har mødt og genset et publikum\, der værdsætter den åbne og personlige tilgang til den traditionelle irske musik\, der kendetegner Tradish. Som en del af den levende irske musiktradition\, spiller Tradish sig ind i en spændende og livsbekræftende blanding af det gamle og det nye\, fortid og nutid\, med en stærk forankring og respekt for rødderne. \nDet sidste album Handmade tales er en samling af 15 håndlavede numre udført på håndlavede akustiske instrumenter – 15 fortællinger med hver sin historie. Det er et destillat af bandets helt specielle lyd\, hvor deres egne kompositioner tilføres den irske traditionelle musik. Handmade tales er et snapshot af\, hvordan bandets karakteristiske lyd har udviklet sig gennem mange års sammenspil: lyden af ​​3 stemmer og 6 hænder\, som spiller på instrumenter håndbygget af træ\, strenge og gedeskind. \nI løbet af de sidste 5 år har Tradish i en koncertrække optrådt med danseren Gunilla Odsbøl\, som er Europamester i irsk step. Gunillas fødder kan høres på et af pladens dansenumre og lægger også vejen forbi Hvidovre til marts. \nTradish er:\nJohn Pilkington: vokal\, guitar\, bouzouki\nLouise Ring Vangsgaard: violin\, viola\, vokal\nBrian Woetmann: bodhrán\, percussion\, mandolin\, vokal\, step \nGunilla Odsbøl: danser  \nKoncerten finder sted i Kulturhus Risbjerggaard fredag den 17. marts 2023.\nBarens personale vil stå klar til at servere\, når dørene åbnes kl. 19.00. Koncertstart kl. 20.00. \nForsalg: 125 kr. / dørsalg: 145 kr.\nDer lægges et billetgebyr på 5 kr. oven i billetprisen.
URL:https://folkalender.dk/arrangement/tradish-m-danser-gunilla-odsboel/
LOCATION:Kulturhus Risbjerggaard – Hvidovres Kulturhus\, Hvidovrevej 241\, Hvidovre\, 2650
CATEGORIES:Koncert
ATTACH;FMTTYPE=image/jpeg:https://folkalender.dk/wp-content/uploads/2023/01/Tradish-press-photo-with-Gunilla-scaled.jpg
ORGANIZER;CN="Kulturhus Risbjerggaard":MAILTO:kontaktrisbjerggaard@hvidovre.dk
GEO:55.6427648;12.4787922
X-APPLE-STRUCTURED-LOCATION;VALUE=URI;X-ADDRESS=Kulturhus Risbjerggaard – Hvidovres Kulturhus Hvidovrevej 241 Hvidovre 2650;X-APPLE-RADIUS=500;X-TITLE=Hvidovrevej 241:geo:12.4787922,55.6427648
END:VEVENT
END:VCALENDAR