BEGIN:VCALENDAR
VERSION:2.0
PRODID:-//Folkalender - ECPv6.10.1.1//NONSGML v1.0//EN
CALSCALE:GREGORIAN
METHOD:PUBLISH
X-WR-CALNAME:Folkalender
X-ORIGINAL-URL:https://folkalender.dk
X-WR-CALDESC:Begivenheder for Folkalender
REFRESH-INTERVAL;VALUE=DURATION:PT1H
X-Robots-Tag:noindex
X-PUBLISHED-TTL:PT1H
BEGIN:VTIMEZONE
TZID:Europe/Helsinki
BEGIN:DAYLIGHT
TZOFFSETFROM:+0200
TZOFFSETTO:+0300
TZNAME:EEST
DTSTART:20230326T010000
END:DAYLIGHT
BEGIN:STANDARD
TZOFFSETFROM:+0300
TZOFFSETTO:+0200
TZNAME:EET
DTSTART:20231029T010000
END:STANDARD
END:VTIMEZONE
BEGIN:VEVENT
DTSTART;TZID=Europe/Helsinki:20230310T160000
DTEND;TZID=Europe/Helsinki:20230312T160000
DTSTAMP:20260421T054123
CREATED:20221220T095046Z
LAST-MODIFIED:20221220T095046Z
UID:5132-1678464000-1678636800@folkalender.dk
SUMMARY:Tryghed i jam v. Poul Lendal\, Jamcon
DESCRIPTION:Får du nogle gange svedige håndflader\, når du vil jamme? \nHolder du dig tilbage\, selvom du gerne vil spille med? \nEller er du knusende rolig\, men vil gerne lære hvordan du skaber en inkluderende jam? \nSå kom til Tryghed i jam med Poul Lendal den 2. weekend i marts! \nJamcon er en hyggelig weekend\, hvor vi mødes og spiller musik\, lærer af hinanden og af en inspirator\, snakker om musik og alt muligt andet\, spiser god mad og spiller endnu mere musik! Jamcon er for alle: der er både plads til at give den fuld gas for de erfarne og til at prøve sig frem og være ny på sit instrument eller i jammen.  \nJamcon sætter fokus på folkemusik-jammen. Vi skal udvide det fælles repertoire\, diskutere alt fra hvad “den gode jam” og musikalsk gæstfrihed er\, til hvordan vi undgår at traditionelle melodier forsvinder\, undersøge hvordan vi hver især kan bidrage med de instrumenter og evner vi har til rådighed og hvordan får vi musikken til at svinge\, og frem for alt: Spille og danse sammen så meget vi overhovedet kan. \nVi mødes til jam\, hygge og fest fredag\, spiller sammen i mindre grupper og får undervisning lørdag dag\, og jammer lige til lørdag bliver søndag\, og diskuterer jammen og weekenden søndag formiddag. Intet er obligatorisk og musikken er fri\, så kom og skab JamCon samme med os! \nTilmelding mm.: www.jamcon.dk
URL:https://folkalender.dk/arrangement/tryghed-i-jam-v-poul-lendal-jamcon/
LOCATION:Årslev\, Fyn\, Godthåbsvej 85\, 4. tv\, 2000
CATEGORIES:Jam,Kursus,Spilleworkshop,Stævne
ORGANIZER;CN="Jamcon":MAILTO:JamCon@JamCon.dk
GEO:55.6887239;12.5231419
X-APPLE-STRUCTURED-LOCATION;VALUE=URI;X-ADDRESS=Årslev Fyn Godthåbsvej 85 4. tv 2000;X-APPLE-RADIUS=500;X-TITLE=Godthåbsvej 85\, 4. tv:geo:12.5231419,55.6887239
END:VEVENT
BEGIN:VEVENT
DTSTART;TZID=Europe/Helsinki:20230310T200000
DTEND;TZID=Europe/Helsinki:20230310T220000
DTSTAMP:20260421T054123
CREATED:20221107T104220Z
LAST-MODIFIED:20230218T124140Z
UID:4913-1678478400-1678485600@folkalender.dk
SUMMARY:Mànran i Haslev Folk Club
DESCRIPTION:7 musikere på scenen. Det bliver en heftig aften! \nMànran bliver betegnet som folkemusikkens superstjerner og med god grund\, for en koncert med dem går ikke stille for sig. Med en besætning\, der\, ud over de ”sædvanlige” folkemusikinstrumenter som violin og harmonika\, omfatter elektrisk guitar og trommer – samt TO sækkepiber! – så kan det ikke blive andet end festligt og fyrigt. Det kunne godt blive en aften\, hvor det bliver svært at sidde stille på stolene i Kultunariet! Selv om det er musik med fut og fart i\, så fornægter det sig ikke\, at de også har nogle meget melodiske og iørefaldende sange. \nMed tre enormt succesfulde studiealbum bag sig\, lancerede Mànran deres nye album Urar (‘frisk’ eller ‘blomstrende’) i slutningen af 2021\, og afslørede en ny og spændende lyd\, der har begejstret både fans og kritikere. \nMànran besøgte sidst klubben i 2017. Siden da har de suppleret besætningen med sangerinden Kim Carnie. Og hendes fløjlsbløde stemme har tilføjet endnu en nuance til bandets flotte musik. Aidan Moodie (som har besøgt os som del af Gnoss) er ny på guitar. De øvrige medlemmer er: Gary Innes (harmonika)\, Ewen Henderson (violin)\, Ryan Murphy (sækkepibe)\, Mark Scobbie (trommer) og Marcus Cordock (el-bas). \nDa Mànran er et populært band\, skal I ikke vente for længe med at købe billetter. \nBilletter til: 225\,- kr. kan købes via Place2Book: https://www.place2book.com/da/sw2/sales/rgro9eopbc (kopier linket ind i din browser). Du kan også bestille billet via vores hjemmeside. \nVores koncerter er støttet af Kunstrådet og Faxe Kommune
URL:https://folkalender.dk/arrangement/manran-i-haslev-folk-club/
LOCATION:Kultunariet\, Haslev\, Søndergade 12\, Haslev\, 4690
CATEGORIES:Koncert
GEO:55.325162;11.956355
X-APPLE-STRUCTURED-LOCATION;VALUE=URI;X-ADDRESS=Kultunariet Haslev Søndergade 12 Haslev 4690;X-APPLE-RADIUS=500;X-TITLE=Søndergade 12:geo:11.956355,55.325162
END:VEVENT
BEGIN:VEVENT
DTSTART;TZID=Europe/Helsinki:20230310T200000
DTEND;TZID=Europe/Helsinki:20230310T233000
DTSTAMP:20260421T054123
CREATED:20230305T104236Z
LAST-MODIFIED:20230305T104236Z
UID:5888-1678478400-1678491000@folkalender.dk
SUMMARY:Ramslag – med nordisk spillemandsmusik i Metronomen med Folket hus Spillefolk
DESCRIPTION:I mere end 9 år har vi en gang om måneden på nær i sommermånederne afholdt Ramslag i Metronomen. Der danses polka\, schottish\, vals\, polska\, hambo\, engelsker\, turdanse og lignende til nordisk spillemandsmusik.\n– Kl. 20 Spiller Folkets Hus Spillefolk op til dans.\n– Kl. 21 Overtager “Trio Vandpyt” fra Skurup scenen med mere dansemusik.\n– Kl. 22 ca…. kaffepause med lidt sødt til og måske lidt fællessang.\nHerefter bunkespil\, alle kan deltage og dansen fortsætter til vi ikke orker mere.\nMetronomen\, Godthåbsvej 33\, Frederiksberg.  \nFredag d. 10. marts 2023 kl. 20.\nDeltagelse kr. 30 inklusiv kaffe/te og lidt småkager. \nSe evt. ekstra oplysninger under kalenderen på vores hjemmeside spillefolk.dk.\nVi glæder os til at se dig! 🙂
URL:https://folkalender.dk/arrangement/ramslag-med-nordisk-spillemandsmusik-i-metronomen-med-folket-hus-spillefolk-2/
LOCATION:Metronomen\, Kbh.\, Godthåbsvej 33\, Frederiksberg\, 2000
CATEGORIES:Folkedanserforening
ATTACH;FMTTYPE=image/jpeg:https://folkalender.dk/wp-content/uploads/2023/03/web-folkets.jpg
ORGANIZER;CN="Folkets Hus Spillefolk":MAILTO:formanden@spillefolk.dk
GEO:55.6860703;12.5334068
X-APPLE-STRUCTURED-LOCATION;VALUE=URI;X-ADDRESS=Metronomen Kbh. Godthåbsvej 33 Frederiksberg 2000;X-APPLE-RADIUS=500;X-TITLE=Godthåbsvej 33:geo:12.5334068,55.6860703
END:VEVENT
END:VCALENDAR