BEGIN:VCALENDAR
VERSION:2.0
PRODID:-//Folkalender - ECPv6.10.1.1//NONSGML v1.0//EN
CALSCALE:GREGORIAN
METHOD:PUBLISH
X-WR-CALNAME:Folkalender
X-ORIGINAL-URL:https://folkalender.dk
X-WR-CALDESC:Begivenheder for Folkalender
REFRESH-INTERVAL;VALUE=DURATION:PT1H
X-Robots-Tag:noindex
X-PUBLISHED-TTL:PT1H
BEGIN:VTIMEZONE
TZID:Europe/Helsinki
BEGIN:DAYLIGHT
TZOFFSETFROM:+0200
TZOFFSETTO:+0300
TZNAME:EEST
DTSTART:20230326T010000
END:DAYLIGHT
BEGIN:STANDARD
TZOFFSETFROM:+0300
TZOFFSETTO:+0200
TZNAME:EET
DTSTART:20231029T010000
END:STANDARD
END:VTIMEZONE
BEGIN:VEVENT
DTSTART;TZID=Europe/Helsinki:20230124T193000
DTEND;TZID=Europe/Helsinki:20230124T230000
DTSTAMP:20260420T201837
CREATED:20220908T163812Z
LAST-MODIFIED:20220908T163812Z
UID:4516-1674588600-1674601200@folkalender.dk
SUMMARY:ReCovery
DESCRIPTION:Keep the folk(s) rockin’ \nRecovery blev dannet i 2020 på baggrund af stor forkærlighed for FolkRock og ikke mindst det skotske band Runrig. \nBandet\, der er bosat på Fyn består af:\nInge Keinicke\, Keyboard\, vokal\nRobert Nielsen\, Vokal\, guitar\, m.m.\nNiels Keinicke\, Elguitar\, vokal\, m.m.\nSøren Binderup Larsen\, Bas\, guitar\, vokal\,  m.m.\nMorten Petersen\, Trommer \nRunrigs fænomenale lyd er inspirationen\, men ReCovery sætter deres eget twist på repertoiret. Musikalsk energi pumpes ud til publikum i Folk-rockens univers med nerve\, nærvær\, varme og samhørighed. ReCovery er ikke et coverband\, men fremfører med stor respekt og musikalitet publikumsvenlige koncerter\, der begejstrer. \nSpisning kan tilkøbes: Baltoppen LIVEs koncert buffet (serveres fra kl. 18:00): 180\,-
URL:https://folkalender.dk/arrangement/recovery/
LOCATION:Baltoppen LIVE\, Baltorpvej 20\, Ballerup\, 2750
CATEGORIES:Koncert
GEO:55.7305364;12.3522152
X-APPLE-STRUCTURED-LOCATION;VALUE=URI;X-ADDRESS=Baltoppen LIVE Baltorpvej 20 Ballerup 2750;X-APPLE-RADIUS=500;X-TITLE=Baltorpvej 20:geo:12.3522152,55.7305364
END:VEVENT
END:VCALENDAR