BEGIN:VCALENDAR
VERSION:2.0
PRODID:-//Folkalender - ECPv6.10.1.1//NONSGML v1.0//EN
CALSCALE:GREGORIAN
METHOD:PUBLISH
X-WR-CALNAME:Folkalender
X-ORIGINAL-URL:https://folkalender.dk
X-WR-CALDESC:Begivenheder for Folkalender
REFRESH-INTERVAL;VALUE=DURATION:PT1H
X-Robots-Tag:noindex
X-PUBLISHED-TTL:PT1H
BEGIN:VTIMEZONE
TZID:Europe/Helsinki
BEGIN:DAYLIGHT
TZOFFSETFROM:+0200
TZOFFSETTO:+0300
TZNAME:EEST
DTSTART:20230326T010000
END:DAYLIGHT
BEGIN:STANDARD
TZOFFSETFROM:+0300
TZOFFSETTO:+0200
TZNAME:EET
DTSTART:20231029T010000
END:STANDARD
END:VTIMEZONE
BEGIN:VEVENT
DTSTART;TZID=Europe/Helsinki:20230121T110000
DTEND;TZID=Europe/Helsinki:20230121T123000
DTSTAMP:20260420T201015
CREATED:20230105T153011Z
LAST-MODIFIED:20230105T153011Z
UID:5291-1674298800-1674304200@folkalender.dk
SUMMARY:Phønix & Landskoret - Slidstærk folkemusik & unge stemmer
DESCRIPTION:Unge sangtalenter fra Landskoret og folkemusikere fra Phønix mødes. Sammen har de udviklet en helt unik koncert med danske salmer tilsat fornyet energi og dansabelt swing samt en række folkeviser fra Phønix store repertoire.  \nLandskoret er et velsyngende ligestemmigt elitekor på ca. 25 medlemmer i alderen 12-22 år udvalgt blandt nogle af de bedste sangere i ligestemmige kor.  \nPhønix er et af Danmarks mest erfarne folk bands. Deres helt unikke lyd har rødder i den danske og skandinaviske folkemusik og sangtradition.\nI 2018 udgav Phønix albummet “Hvad intet øre hørte end” med nye fortolkninger af danske salmer med rod i folkemusikken. \nKoncerten er støttet af Odense Kommune\, Dansk Musiker Forbund\, Korsangernes Fællesråd og Augustinus Fonden.
URL:https://folkalender.dk/arrangement/phoenix-landskoret-slidstaerk-folkemusik-unge-stemmer-2/
LOCATION:Assens Kirke – Vor Frue\, Damgade 17\, Assens\, 5610
CATEGORIES:Koncert
ATTACH;FMTTYPE=image/jpeg:https://folkalender.dk/wp-content/uploads/2023/01/Phoenix-og-Landskoret-med-haender-scaled.jpeg
GEO:55.2692993;9.8940658
X-APPLE-STRUCTURED-LOCATION;VALUE=URI;X-ADDRESS=Assens Kirke – Vor Frue Damgade 17 Assens 5610;X-APPLE-RADIUS=500;X-TITLE=Damgade 17:geo:9.8940658,55.2692993
END:VEVENT
BEGIN:VEVENT
DTSTART;TZID=Europe/Helsinki:20230121T160000
DTEND;TZID=Europe/Helsinki:20230121T173000
DTSTAMP:20260420T201015
CREATED:20230105T153356Z
LAST-MODIFIED:20230105T153356Z
UID:5297-1674316800-1674322200@folkalender.dk
SUMMARY:Phønix & Landskoret - Slidstærk folkemusik & unge stemmer
DESCRIPTION:Unge sangtalenter fra Landskoret og folkemusikere fra Phønix mødes. Sammen har de udviklet en helt unik koncert med danske salmer tilsat fornyet energi og dansabelt swing samt en række folkeviser fra Phønix store repertoire.  \nLandskoret er et velsyngende ligestemmigt elitekor på ca. 25 medlemmer i alderen 12-22 år udvalgt blandt nogle af de bedste sangere i ligestemmige kor.  \nPhønix er et af Danmarks mest erfarne folk bands. Deres helt unikke lyd har rødder i den danske og skandinaviske folkemusik og sangtradition.\nI 2018 udgav Phønix albummet “Hvad intet øre hørte end” med nye fortolkninger af danske salmer med rod i folkemusikken. \nKoncerten er støttet af Odense Kommune\, Dansk Musiker Forbund\, Korsangernes Fællesråd og Augustinus Fonden.
URL:https://folkalender.dk/arrangement/phoenix-landskoret-slidstaerk-folkemusik-unge-stemmer-3/
LOCATION:Sønderbro Kirke\, Bygholm Parkvej 1\, Horsens\, 8700
CATEGORIES:Koncert
ATTACH;FMTTYPE=image/jpeg:https://folkalender.dk/wp-content/uploads/2023/01/Phoenix-og-Landskoret-scaled.jpeg
GEO:55.8584602;9.8402624
X-APPLE-STRUCTURED-LOCATION;VALUE=URI;X-ADDRESS=Sønderbro Kirke Bygholm Parkvej 1 Horsens 8700;X-APPLE-RADIUS=500;X-TITLE=Bygholm Parkvej 1:geo:9.8402624,55.8584602
END:VEVENT
BEGIN:VEVENT
DTSTART;TZID=Europe/Helsinki:20230121T190000
DTEND;TZID=Europe/Helsinki:20230121T230000
DTSTAMP:20260420T201015
CREATED:20220725T122545Z
LAST-MODIFIED:20220725T124607Z
UID:4096-1674327600-1674342000@folkalender.dk
SUMMARY:Nytårbal\, med Mads Hansens Kapel
DESCRIPTION:“Mor dig først\,\nspørg bagefter!” \n   Orkesteret indgik for\nførste gang i kunstens\ntjeneste i 2016 og begyndte snart at gøre sig\nbemærkede på den danske folkemusikscene –\nog gulv!\nDansemusikken har\naltid været levende og\nforanderlig\, og dette\nhøres tydeligt i\nfortolkningen af de\ngamle melodier\, som\nspilles med vildskab\,\nautoritet og hjerte! \nMads Hansens Kapel er:\n Jonas Lærke Clausen – Violin\n Martin Strange Lorenzen – Klarinet\n Sebastian Boesgaard Bloch Larsen – Guitar\n Emil Ringtved Nielsen – Bas\n Julian Svejgaard Jørgensen – Klaver \nEntre inkl. Kaffe og Kage: 120\,-\nFor laugets medlemmer 100\,-\nStudenterpris 60\,- til unge under 25 år eller med studiekort.
URL:https://folkalender.dk/arrangement/nytaarbal/
LOCATION:Trekanten\, Sebbersundvej 2A\, 9220 Aalborg Ø
CATEGORIES:Bal
ORGANIZER;CN="Aalborg Danse- og Spillemandslaug":MAILTO:oleugiltlarsen@outlook.dk
END:VEVENT
END:VCALENDAR