BEGIN:VCALENDAR
VERSION:2.0
PRODID:-//Folkalender - ECPv6.10.1.1//NONSGML v1.0//EN
CALSCALE:GREGORIAN
METHOD:PUBLISH
X-WR-CALNAME:Folkalender
X-ORIGINAL-URL:https://folkalender.dk
X-WR-CALDESC:Begivenheder for Folkalender
REFRESH-INTERVAL;VALUE=DURATION:PT1H
X-Robots-Tag:noindex
X-PUBLISHED-TTL:PT1H
BEGIN:VTIMEZONE
TZID:Europe/Helsinki
BEGIN:DAYLIGHT
TZOFFSETFROM:+0200
TZOFFSETTO:+0300
TZNAME:EEST
DTSTART:20230326T010000
END:DAYLIGHT
BEGIN:STANDARD
TZOFFSETFROM:+0300
TZOFFSETTO:+0200
TZNAME:EET
DTSTART:20231029T010000
END:STANDARD
END:VTIMEZONE
BEGIN:VEVENT
DTSTART;TZID=Europe/Helsinki:20230117T191500
DTEND;TZID=Europe/Helsinki:20230117T191500
DTSTAMP:20260420T201021
CREATED:20221212T172552Z
LAST-MODIFIED:20221212T172552Z
UID:5094-1673982900-1673982900@folkalender.dk
SUMMARY:Mirja Klippel
DESCRIPTION:Med en stor stemme\, et inderligt klangunivers og en sans for at skrive sange\, der forbinder personlige erfaringer med billeder fra den nordiske natur\, har den finske sangskriver og sanger markeret sig som et særlig talent på den alternative folk-scene. \nAllerede hendes debut-EP Lift Your Lion (2016) indbragte den københavner-baserede musiker en Danish Music Award Folk som Årets Sangskriver. Siden har hun turneret flittigt i Danmark\, såvel som resten af Europa og Nordatlanten\, ligesom hun i 2018 udsendte det roste fuldlængde-album River of Silver. Hendes seneste album\, Slow Coming Alive\, fik tre nominationer ved Danish Music Awards Roots i 2021. \nMed dette album føjer Klippel atter nye nuancer til sin alternative og poetiske folk og fortsætter med at udvide dybderne og højderne i sin sangskrivning. Med sin faste medmusiker Alex Jønsson\, drager hun publikum ind i et organisk og atmosfærisk univers\, hvor personlige erfaringer åbner op for psykologiske dybder\, og hvor intime rum går hånd i hånd med rå og vilde landskaber. \nLine up:\nMirja Klippel: sang\, guitar & waldzither\nAlex Jønsson: guitar\, kor
URL:https://folkalender.dk/arrangement/mirja-klippel-2/
LOCATION:Toldkammeret\, Havnepladsen 1\, Helsingør\, 3000
CATEGORIES:Koncert
GEO:56.0340699;12.6141898
X-APPLE-STRUCTURED-LOCATION;VALUE=URI;X-ADDRESS=Toldkammeret Havnepladsen 1 Helsingør 3000;X-APPLE-RADIUS=500;X-TITLE=Havnepladsen 1:geo:12.6141898,56.0340699
END:VEVENT
BEGIN:VEVENT
DTSTART;TZID=Europe/Helsinki:20230117T193000
DTEND;TZID=Europe/Helsinki:20230117T223000
DTSTAMP:20260420T201021
CREATED:20230108T162037Z
LAST-MODIFIED:20230108T162037Z
UID:5348-1673983800-1673994600@folkalender.dk
SUMMARY:FOLKEKONS VINTERTURNÈ 2023
DESCRIPTION:Folkekons drager i januar 2023 igen på vintersturné efter 2 års pause! Folkekons er kælenavnet for Danmarks eneste uddannelse inden for folkemusik\, og ud af den er kommet en lang række af de musikere som arbejder professionelt med folkemusik i dag. Den favner bredt\, men har fokus på den danske og nordiske folkemusik og har til huse på Syddansk Musikkonservatorium i Esbjerg.  \nKoncertprogrammet byder på et alsidigt udvalg af både nykomponeret og traditionel folkemusik. Der opstår en mægtig lyd når det 10 mand store orkester spiller sammen i en unik sammensætning af musikere og instrumenter\, som kun kan opleves denne ene gang. \nPublikum får chancen for at opleve de folkemusikstuderende lige nu\, inden de om få år kommer til at præge den danske folkemusikscene som uddannede\, professionelle musikere.
URL:https://folkalender.dk/arrangement/folkekons-vinterturne-2023/
LOCATION:Søstrehuset\, Christiansfeld\, Nørregade 14\, Christiansfeld\, 6070
CATEGORIES:Koncert
ATTACH;FMTTYPE=image/jpeg:https://folkalender.dk/wp-content/uploads/2023/01/FolkeKons.jpg
GEO:55.3561704;9.4814083
X-APPLE-STRUCTURED-LOCATION;VALUE=URI;X-ADDRESS=Søstrehuset Christiansfeld Nørregade 14 Christiansfeld 6070;X-APPLE-RADIUS=500;X-TITLE=Nørregade 14:geo:9.4814083,55.3561704
END:VEVENT
END:VCALENDAR