BEGIN:VCALENDAR
VERSION:2.0
PRODID:-//Folkalender - ECPv6.10.1.1//NONSGML v1.0//EN
CALSCALE:GREGORIAN
METHOD:PUBLISH
X-ORIGINAL-URL:https://folkalender.dk
X-WR-CALDESC:Begivenheder for Folkalender
REFRESH-INTERVAL;VALUE=DURATION:PT1H
X-Robots-Tag:noindex
X-PUBLISHED-TTL:PT1H
BEGIN:VTIMEZONE
TZID:Europe/Helsinki
BEGIN:DAYLIGHT
TZOFFSETFROM:+0200
TZOFFSETTO:+0300
TZNAME:EEST
DTSTART:20230326T010000
END:DAYLIGHT
BEGIN:STANDARD
TZOFFSETFROM:+0300
TZOFFSETTO:+0200
TZNAME:EET
DTSTART:20231029T010000
END:STANDARD
BEGIN:DAYLIGHT
TZOFFSETFROM:+0200
TZOFFSETTO:+0300
TZNAME:EEST
DTSTART:20240331T010000
END:DAYLIGHT
BEGIN:STANDARD
TZOFFSETFROM:+0300
TZOFFSETTO:+0200
TZNAME:EET
DTSTART:20241027T010000
END:STANDARD
END:VTIMEZONE
BEGIN:VEVENT
DTSTART;TZID=Europe/Helsinki:20241126T193000
DTEND;TZID=Europe/Helsinki:20241126T213000
DTSTAMP:20260419T213929
CREATED:20230830T105903Z
LAST-MODIFIED:20230830T105903Z
UID:9343-1732649400-1732656600@folkalender.dk
SUMMARY:Nordisk dans Odense
DESCRIPTION:Nordisk dans i Odense afholder danseaften\, hvor vi glæder os til at byde velkommen til en aften med live musik\, danseundervisning og selvfølgelig smil og fede dansetrin fra jer. Aftenen er GRATIS og ALLE er velkommen uanset niveau og alder 😀 \nVi starter i det små med gode fifs og vejledning til traditionelle folkedanse\, hvor vi håber\, at du vil tage dine venner og studiekammerater med til Studenterhuset i Odense\, som vi samarbejder med. De står for kolde drikke i baren\, så der er ingen grund til at blive hjemme på en kedelig tirsdag 😀 \nPROGRAM\nKlokken 19.30: Workshop\nKlokken 20.30: Pause\, hvor der kan købes forfriskninger\nKlokken 20.45: Musikerne spiller op til bal\, hvor du har mulighed for at prøve de ting af\, du har lært på workshoppen. Hvis du ikke har mod på at danse\, så bliv endelig hængende – musikken og stemningen er også en lytter værd. 🎶 \nHvis du er nysgerrig kan du læse mere om Nordisk Dans på:\nwww.nordiskdans.dk \nOg du kan følge os på vores facebookside\, hvor vi lægger begivenheder ud fra gang til gang. Er du nysgerrig på temaet\, så kan det være vi har skrevet det i begivenheden 😀 \nVi håber\, at vi ses! \nDe bedste hilsner\nNordisk Dans Odense!
URL:https://folkalender.dk/arrangement/nordisk-dans-odense/2024-11-26/
LOCATION:Studenterhus odense\, Amfipladsen 6\, Odense\, 5000
CATEGORIES:Bal,Danseworkshop,Legestue
ATTACH;FMTTYPE=image/png:https://folkalender.dk/wp-content/uploads/2023/08/Skaermbillede-2023-08-30-kl.-13.06.11.png
GEO:55.3954111;10.3805861
X-APPLE-STRUCTURED-LOCATION;VALUE=URI;X-ADDRESS=Studenterhus odense Amfipladsen 6 Odense 5000;X-APPLE-RADIUS=500;X-TITLE=Amfipladsen 6:geo:10.3805861,55.3954111
END:VEVENT
BEGIN:VEVENT
DTSTART;TZID=Europe/Helsinki:20241029T193000
DTEND;TZID=Europe/Helsinki:20241029T213000
DTSTAMP:20260419T213929
CREATED:20230830T105903Z
LAST-MODIFIED:20230830T105903Z
UID:9342-1730230200-1730237400@folkalender.dk
SUMMARY:Nordisk dans Odense
DESCRIPTION:Nordisk dans i Odense afholder danseaften\, hvor vi glæder os til at byde velkommen til en aften med live musik\, danseundervisning og selvfølgelig smil og fede dansetrin fra jer. Aftenen er GRATIS og ALLE er velkommen uanset niveau og alder 😀 \nVi starter i det små med gode fifs og vejledning til traditionelle folkedanse\, hvor vi håber\, at du vil tage dine venner og studiekammerater med til Studenterhuset i Odense\, som vi samarbejder med. De står for kolde drikke i baren\, så der er ingen grund til at blive hjemme på en kedelig tirsdag 😀 \nPROGRAM\nKlokken 19.30: Workshop\nKlokken 20.30: Pause\, hvor der kan købes forfriskninger\nKlokken 20.45: Musikerne spiller op til bal\, hvor du har mulighed for at prøve de ting af\, du har lært på workshoppen. Hvis du ikke har mod på at danse\, så bliv endelig hængende – musikken og stemningen er også en lytter værd. 🎶 \nHvis du er nysgerrig kan du læse mere om Nordisk Dans på:\nwww.nordiskdans.dk \nOg du kan følge os på vores facebookside\, hvor vi lægger begivenheder ud fra gang til gang. Er du nysgerrig på temaet\, så kan det være vi har skrevet det i begivenheden 😀 \nVi håber\, at vi ses! \nDe bedste hilsner\nNordisk Dans Odense!
URL:https://folkalender.dk/arrangement/nordisk-dans-odense/2024-10-29/
LOCATION:Studenterhus odense\, Amfipladsen 6\, Odense\, 5000
CATEGORIES:Bal,Danseworkshop,Legestue
ATTACH;FMTTYPE=image/png:https://folkalender.dk/wp-content/uploads/2023/08/Skaermbillede-2023-08-30-kl.-13.06.11.png
GEO:55.3954111;10.3805861
X-APPLE-STRUCTURED-LOCATION;VALUE=URI;X-ADDRESS=Studenterhus odense Amfipladsen 6 Odense 5000;X-APPLE-RADIUS=500;X-TITLE=Amfipladsen 6:geo:10.3805861,55.3954111
END:VEVENT
BEGIN:VEVENT
DTSTART;TZID=Europe/Helsinki:20240924T193000
DTEND;TZID=Europe/Helsinki:20240924T213000
DTSTAMP:20260419T213929
CREATED:20230830T105903Z
LAST-MODIFIED:20230830T105903Z
UID:9341-1727206200-1727213400@folkalender.dk
SUMMARY:Nordisk dans Odense
DESCRIPTION:Nordisk dans i Odense afholder danseaften\, hvor vi glæder os til at byde velkommen til en aften med live musik\, danseundervisning og selvfølgelig smil og fede dansetrin fra jer. Aftenen er GRATIS og ALLE er velkommen uanset niveau og alder 😀 \nVi starter i det små med gode fifs og vejledning til traditionelle folkedanse\, hvor vi håber\, at du vil tage dine venner og studiekammerater med til Studenterhuset i Odense\, som vi samarbejder med. De står for kolde drikke i baren\, så der er ingen grund til at blive hjemme på en kedelig tirsdag 😀 \nPROGRAM\nKlokken 19.30: Workshop\nKlokken 20.30: Pause\, hvor der kan købes forfriskninger\nKlokken 20.45: Musikerne spiller op til bal\, hvor du har mulighed for at prøve de ting af\, du har lært på workshoppen. Hvis du ikke har mod på at danse\, så bliv endelig hængende – musikken og stemningen er også en lytter værd. 🎶 \nHvis du er nysgerrig kan du læse mere om Nordisk Dans på:\nwww.nordiskdans.dk \nOg du kan følge os på vores facebookside\, hvor vi lægger begivenheder ud fra gang til gang. Er du nysgerrig på temaet\, så kan det være vi har skrevet det i begivenheden 😀 \nVi håber\, at vi ses! \nDe bedste hilsner\nNordisk Dans Odense!
URL:https://folkalender.dk/arrangement/nordisk-dans-odense/2024-09-24/
LOCATION:Studenterhus odense\, Amfipladsen 6\, Odense\, 5000
CATEGORIES:Bal,Danseworkshop,Legestue
ATTACH;FMTTYPE=image/png:https://folkalender.dk/wp-content/uploads/2023/08/Skaermbillede-2023-08-30-kl.-13.06.11.png
GEO:55.3954111;10.3805861
X-APPLE-STRUCTURED-LOCATION;VALUE=URI;X-ADDRESS=Studenterhus odense Amfipladsen 6 Odense 5000;X-APPLE-RADIUS=500;X-TITLE=Amfipladsen 6:geo:10.3805861,55.3954111
END:VEVENT
BEGIN:VEVENT
DTSTART;TZID=Europe/Helsinki:20240625T193000
DTEND;TZID=Europe/Helsinki:20240625T220000
DTSTAMP:20260419T213929
CREATED:20230830T105903Z
LAST-MODIFIED:20240116T093730Z
UID:7615-1719343800-1719352800@folkalender.dk
SUMMARY:Nordisk dans Odense
DESCRIPTION:Nordisk dans i Odense afholder danseaften\, hvor vi glæder os til at byde velkommen til en aften med live musik\, danseundervisning og selvfølgelig smil og fede dansetrin fra jer. Aftenen er GRATIS og ALLE er velkommen uanset niveau og alder 😀 \nVi starter i det små med gode fifs og vejledning til traditionelle folkedanse\, hvor vi håber\, at du vil tage dine venner og studiekammerater med til Studenterhuset i Odense\, som vi samarbejder med. De står for kolde drikke i baren\, så der er ingen grund til at blive hjemme på en kedelig tirsdag 😀 \nPROGRAM\nKlokken 19.30: Workshop\nKlokken 20.30: Pause\, hvor der kan købes forfriskninger\nKlokken 20.45: Musikerne spiller op til bal\, hvor du har mulighed for at prøve de ting af\, du har lært på workshoppen. Hvis du ikke har mod på at danse\, så bliv endelig hængende – musikken og stemningen er også en lytter værd. 🎶 \nHvis du er nysgerrig kan du læse mere om Nordisk Dans på:\nwww.nordiskdans.dk \nOg du kan følge os på vores facebookside\, hvor vi lægger begivenheder ud fra gang til gang. Er du nysgerrig på temaet\, så kan det være vi har skrevet det i begivenheden 😀 \nVi håber\, at vi ses! \nDe bedste hilsner\nNordisk Dans Odense!
URL:https://folkalender.dk/arrangement/nordisk-dans-odense/2024-06-25/
LOCATION:Studenterhus odense\, Amfipladsen 6\, Odense\, 5000
CATEGORIES:Bal,Danseworkshop,Legestue
ATTACH;FMTTYPE=image/png:https://folkalender.dk/wp-content/uploads/2023/08/Skaermbillede-2023-08-30-kl.-13.06.11.png
GEO:55.3954111;10.3805861
X-APPLE-STRUCTURED-LOCATION;VALUE=URI;X-ADDRESS=Studenterhus odense Amfipladsen 6 Odense 5000;X-APPLE-RADIUS=500;X-TITLE=Amfipladsen 6:geo:10.3805861,55.3954111
END:VEVENT
BEGIN:VEVENT
DTSTART;TZID=Europe/Helsinki:20240528T193000
DTEND;TZID=Europe/Helsinki:20240528T220000
DTSTAMP:20260419T213929
CREATED:20230830T105903Z
LAST-MODIFIED:20240816T063214Z
UID:7614-1716924600-1716933600@folkalender.dk
SUMMARY:Nordisk dans Odense
DESCRIPTION:Nordisk dans i Odense afholder danseaften\, hvor vi glæder os til at byde velkommen til en aften med live musik\, danseundervisning og selvfølgelig smil og fede dansetrin fra jer. Aftenen er GRATIS og ALLE er velkommen uanset niveau og alder 😀 \nVi starter i det små med gode fifs og vejledning til traditionelle folkedanse\, hvor vi håber\, at du vil tage dine venner og studiekammerater med til Studenterhuset i Odense\, som vi samarbejder med. De står for kolde drikke i baren\, så der er ingen grund til at blive hjemme på en kedelig tirsdag 😀 \nPROGRAM\nKlokken 19.30: Workshop\nKlokken 20.30: Pause\, hvor der kan købes forfriskninger\nKlokken 20.45: Musikerne spiller op til bal\, hvor du har mulighed for at prøve de ting af\, du har lært på workshoppen. Hvis du ikke har mod på at danse\, så bliv endelig hængende – musikken og stemningen er også en lytter værd. 🎶 \nHvis du er nysgerrig kan du læse mere om Nordisk Dans på:\nwww.nordiskdans.dk \nOg du kan følge os på vores facebookside\, hvor vi lægger begivenheder ud fra gang til gang. Er du nysgerrig på temaet\, så kan det være vi har skrevet det i begivenheden 😀 \nVi håber\, at vi ses! \nDe bedste hilsner\nNordisk Dans Odense!
URL:https://folkalender.dk/arrangement/nordisk-dans-odense/2024-05-28/
LOCATION:Studenterhus odense\, Amfipladsen 6\, Odense\, 5000
CATEGORIES:Bal,Danseworkshop,Legestue
ATTACH;FMTTYPE=image/png:https://folkalender.dk/wp-content/uploads/2023/08/Skaermbillede-2023-08-30-kl.-13.06.11.png
GEO:55.3954111;10.3805861
X-APPLE-STRUCTURED-LOCATION;VALUE=URI;X-ADDRESS=Studenterhus odense Amfipladsen 6 Odense 5000;X-APPLE-RADIUS=500;X-TITLE=Amfipladsen 6:geo:10.3805861,55.3954111
END:VEVENT
BEGIN:VEVENT
DTSTART;TZID=Europe/Helsinki:20240430T193000
DTEND;TZID=Europe/Helsinki:20240430T220000
DTSTAMP:20260419T213929
CREATED:20230830T105903Z
LAST-MODIFIED:20240816T063214Z
UID:7613-1714505400-1714514400@folkalender.dk
SUMMARY:Nordisk dans Odense
DESCRIPTION:Nordisk dans i Odense afholder danseaften\, hvor vi glæder os til at byde velkommen til en aften med live musik\, danseundervisning og selvfølgelig smil og fede dansetrin fra jer. Aftenen er GRATIS og ALLE er velkommen uanset niveau og alder 😀 \nVi starter i det små med gode fifs og vejledning til traditionelle folkedanse\, hvor vi håber\, at du vil tage dine venner og studiekammerater med til Studenterhuset i Odense\, som vi samarbejder med. De står for kolde drikke i baren\, så der er ingen grund til at blive hjemme på en kedelig tirsdag 😀 \nPROGRAM\nKlokken 19.30: Workshop\nKlokken 20.30: Pause\, hvor der kan købes forfriskninger\nKlokken 20.45: Musikerne spiller op til bal\, hvor du har mulighed for at prøve de ting af\, du har lært på workshoppen. Hvis du ikke har mod på at danse\, så bliv endelig hængende – musikken og stemningen er også en lytter værd. 🎶 \nHvis du er nysgerrig kan du læse mere om Nordisk Dans på:\nwww.nordiskdans.dk \nOg du kan følge os på vores facebookside\, hvor vi lægger begivenheder ud fra gang til gang. Er du nysgerrig på temaet\, så kan det være vi har skrevet det i begivenheden 😀 \nVi håber\, at vi ses! \nDe bedste hilsner\nNordisk Dans Odense!
URL:https://folkalender.dk/arrangement/nordisk-dans-odense/2024-04-30/
LOCATION:Studenterhus odense\, Amfipladsen 6\, Odense\, 5000
CATEGORIES:Bal,Danseworkshop,Legestue
ATTACH;FMTTYPE=image/png:https://folkalender.dk/wp-content/uploads/2023/08/Skaermbillede-2023-08-30-kl.-13.06.11.png
GEO:55.3954111;10.3805861
X-APPLE-STRUCTURED-LOCATION;VALUE=URI;X-ADDRESS=Studenterhus odense Amfipladsen 6 Odense 5000;X-APPLE-RADIUS=500;X-TITLE=Amfipladsen 6:geo:10.3805861,55.3954111
END:VEVENT
BEGIN:VEVENT
DTSTART;TZID=Europe/Helsinki:20230926T193000
DTEND;TZID=Europe/Helsinki:20230926T220000
DTSTAMP:20260419T213929
CREATED:20230830T105903Z
LAST-MODIFIED:20240816T063213Z
UID:6923-1695756600-1695765600@folkalender.dk
SUMMARY:Nordisk dans Odense
DESCRIPTION:Nordisk dans i Odense afholder danseaften\, hvor vi glæder os til at byde velkommen til en aften med live musik\, danseundervisning og selvfølgelig smil og fede dansetrin fra jer. Aftenen er GRATIS og ALLE er velkommen uanset niveau og alder 😀 \nVi starter i det små med gode fifs og vejledning til traditionelle folkedanse\, hvor vi håber\, at du vil tage dine venner og studiekammerater med til Studenterhuset i Odense\, som vi samarbejder med. De står for kolde drikke i baren\, så der er ingen grund til at blive hjemme på en kedelig tirsdag 😀 \nPROGRAM\nKlokken 19.30: Workshop\nKlokken 20.30: Pause\, hvor der kan købes forfriskninger\nKlokken 20.45: Musikerne spiller op til bal\, hvor du har mulighed for at prøve de ting af\, du har lært på workshoppen. Hvis du ikke har mod på at danse\, så bliv endelig hængende – musikken og stemningen er også en lytter værd. 🎶 \nHvis du er nysgerrig kan du læse mere om Nordisk Dans på:\nwww.nordiskdans.dk \nOg du kan følge os på vores facebookside\, hvor vi lægger begivenheder ud fra gang til gang. Er du nysgerrig på temaet\, så kan det være vi har skrevet det i begivenheden 😀 \nVi håber\, at vi ses! \nDe bedste hilsner\nNordisk Dans Odense!
URL:https://folkalender.dk/arrangement/nordisk-dans-odense/2023-09-26/
LOCATION:Studenterhus odense\, Amfipladsen 6\, Odense\, 5000
CATEGORIES:Bal,Danseworkshop,Legestue
ATTACH;FMTTYPE=image/png:https://folkalender.dk/wp-content/uploads/2023/08/Skaermbillede-2023-08-30-kl.-13.06.11.png
GEO:55.3954111;10.3805861
X-APPLE-STRUCTURED-LOCATION;VALUE=URI;X-ADDRESS=Studenterhus odense Amfipladsen 6 Odense 5000;X-APPLE-RADIUS=500;X-TITLE=Amfipladsen 6:geo:10.3805861,55.3954111
END:VEVENT
END:VCALENDAR