BEGIN:VCALENDAR
VERSION:2.0
PRODID:-//Folkalender - ECPv6.10.1.1//NONSGML v1.0//EN
CALSCALE:GREGORIAN
METHOD:PUBLISH
X-WR-CALNAME:Folkalender
X-ORIGINAL-URL:https://folkalender.dk
X-WR-CALDESC:Begivenheder for Folkalender
REFRESH-INTERVAL;VALUE=DURATION:PT1H
X-Robots-Tag:noindex
X-PUBLISHED-TTL:PT1H
BEGIN:VTIMEZONE
TZID:Europe/Helsinki
BEGIN:DAYLIGHT
TZOFFSETFROM:+0200
TZOFFSETTO:+0300
TZNAME:EEST
DTSTART:20260329T010000
END:DAYLIGHT
BEGIN:STANDARD
TZOFFSETFROM:+0300
TZOFFSETTO:+0200
TZNAME:EET
DTSTART:20261025T010000
END:STANDARD
END:VTIMEZONE
BEGIN:VEVENT
DTSTART;TZID=Europe/Helsinki:20260122T203000
DTEND;TZID=Europe/Helsinki:20260122T233000
DTSTAMP:20260419T160232
CREATED:20250609T141210Z
LAST-MODIFIED:20260119T181127Z
UID:12261-1769113800-1769124600@folkalender.dk
SUMMARY:KBH FOLK JAM [Special udgave]
DESCRIPTION:Københavns hyggeligste jam er blevet inviteret til at komme og jamme efter Julia Bengtsons koncert på Litteraturhaus. \nVi plejer at være på café Langebro\, hver måned\, den anden mandag i måneden. fra kl. 20. \nHvordan foregår en jam?\nFolkJam er en klassisk åben jamsession\, hvor alle kan deltage. Fokus er på ”spillemandsmusik” i den nordiske folkemusiktradition i bredeste forstand\, men der kan sagtens forekomme afstikkere til irsk folkemusik eller hvad der nu lige kommer på bordet.\nDer vil typisk være en eller to\, som sætter musikken i gang og spiller for.\nNår et nummer afsluttes\, vælges der et nyt nummer\, hvor alle kan byde ind med\, hvad der så skal spilles.\nDet er ligegyldigt\, hvilket niveau du har\, så længe du har lyst til at spille. \nHvis du hverken synger eller spiller\, er du også meget velkommen til bare at sidde og lytter.\nSå grib dit instrument\, din ven\, kæresten og svigermor for nu skal der festes!  \nFind os på Facebook under KBH FOLK JAM
URL:https://folkalender.dk/arrangement/kbh-folk-jam/
LOCATION:LiteraturHaus\, Møllegade 7\, København\, 2200\, Denmark
CATEGORIES:Jam
ATTACH;FMTTYPE=image/jpeg:https://folkalender.dk/wp-content/uploads/2025/06/483932041_958440033160572_1584896758217401217_n.jpg
GEO:55.690795;12.5556785
X-APPLE-STRUCTURED-LOCATION;VALUE=URI;X-ADDRESS=LiteraturHaus Møllegade 7 København 2200 Denmark;X-APPLE-RADIUS=500;X-TITLE=Møllegade 7:geo:12.5556785,55.690795
END:VEVENT
END:VCALENDAR