BEGIN:VCALENDAR
VERSION:2.0
PRODID:-//Folkalender - ECPv6.10.1.1//NONSGML v1.0//EN
CALSCALE:GREGORIAN
METHOD:PUBLISH
X-WR-CALNAME:Folkalender
X-ORIGINAL-URL:https://folkalender.dk
X-WR-CALDESC:Begivenheder for Folkalender
REFRESH-INTERVAL;VALUE=DURATION:PT1H
X-Robots-Tag:noindex
X-PUBLISHED-TTL:PT1H
BEGIN:VTIMEZONE
TZID:Europe/Helsinki
BEGIN:DAYLIGHT
TZOFFSETFROM:+0200
TZOFFSETTO:+0300
TZNAME:EEST
DTSTART:20230326T010000
END:DAYLIGHT
BEGIN:STANDARD
TZOFFSETFROM:+0300
TZOFFSETTO:+0200
TZNAME:EET
DTSTART:20231029T010000
END:STANDARD
END:VTIMEZONE
BEGIN:VEVENT
DTSTART;TZID=Europe/Helsinki:20230630T160000
DTEND;TZID=Europe/Helsinki:20230630T180000
DTSTAMP:20260419T182820
CREATED:20230616T104723Z
LAST-MODIFIED:20230616T105911Z
UID:6498-1688140800-1688148000@folkalender.dk
SUMMARY:Fynboerne spiller på kajen ved Fjord&Bælt\, Kerteminde.
DESCRIPTION:Folkemusiklauget FYNBOERNE spiller på kajen ved Fjord&Bælt\, Margrethes Plads 1\, Kerteminde.  \nDer er gratis adgang.\nDer kan lyttes og der kan danses til dansk spillemandsmusik. \nMusikere fra Folkemusiklauget Fynboerne spiller en række af de kendte og primært danske spillemandsmelodier.\nEnsemblet holder fast i de gamle spillemandstraditioner\, der har været en del af vores kulturarv i flere århundrede.\nMusikken er en videreførelse og en fortolkning\, der er præget af at musikken stadig påvirkes af nutidens musikere\, instrumenter m.m.\nInstrumenterne i Folkemusiklauget Fynboerne er violiner\, harmonika\, kontrabas\, ukulele og guitar.
URL:https://folkalender.dk/arrangement/fynboerne-spiller-paa-kajen-ved-fjordbaelt-kerteminde/2023-06-30/
LOCATION:Fjord&Bælt\, Margrethes Plas 1\, Kerteminde\, 5300
CATEGORIES:Bal
ATTACH;FMTTYPE=image/jpeg:https://folkalender.dk/wp-content/uploads/2023/06/0A3C8F1C-A07C-4FAF-9895-0C108A01AA62_1_201_a.jpeg
GEO:55.450229;10.661062
X-APPLE-STRUCTURED-LOCATION;VALUE=URI;X-ADDRESS=Fjord&Bælt Margrethes Plas 1 Kerteminde 5300;X-APPLE-RADIUS=500;X-TITLE=Margrethes Plas 1:geo:10.661062,55.450229
END:VEVENT
END:VCALENDAR