BEGIN:VCALENDAR
VERSION:2.0
PRODID:-//Folkalender - ECPv6.10.1.1//NONSGML v1.0//EN
CALSCALE:GREGORIAN
METHOD:PUBLISH
X-WR-CALNAME:Folkalender
X-ORIGINAL-URL:https://folkalender.dk
X-WR-CALDESC:Begivenheder for Folkalender
REFRESH-INTERVAL;VALUE=DURATION:PT1H
X-Robots-Tag:noindex
X-PUBLISHED-TTL:PT1H
BEGIN:VTIMEZONE
TZID:Europe/Helsinki
BEGIN:DAYLIGHT
TZOFFSETFROM:+0200
TZOFFSETTO:+0300
TZNAME:EEST
DTSTART:20220327T010000
END:DAYLIGHT
BEGIN:STANDARD
TZOFFSETFROM:+0300
TZOFFSETTO:+0200
TZNAME:EET
DTSTART:20221030T010000
END:STANDARD
END:VTIMEZONE
BEGIN:VEVENT
DTSTART;TZID=Europe/Helsinki:20221210T183000
DTEND;TZID=Europe/Helsinki:20221210T200000
DTSTAMP:20260420T202945
CREATED:20221107T105339Z
LAST-MODIFIED:20221107T105339Z
UID:4919-1670697000-1670702400@folkalender.dk
SUMMARY:DR Pigekorets jul med Dreamers’ Circus
DESCRIPTION:Julen er en særlig tid\, hvor de elskede danske julesange og -salmer skaber rammen om ritualer\, følelser og minder. DR Pigekoret og Phillip Faber inviterer indenfor i en smuk og julepyntet Koncertsal til en medrivende musikalsk fortælling flettet sammen af både velkendte og nye julesange og -værker. \nVed dette års julekoncerter medvirker DR Pigekoret og sangere fra DR Korskolen sammen med folkemusiktrioen Dreamers’ Circus – en vor tids mest populære og innovative repræsentanter for den nordiske folkemusik. \nKoncerten er for hele familien\, dog min. alder 6 år.
URL:https://folkalender.dk/arrangement/dr-pigekorets-jul-med-dreamers-circus/2022-12-10/
LOCATION:DR Koncerthuset\, Ørestads Boulevard 13\, København S\, 2300
CATEGORIES:Koncert
GEO:55.6578426;12.588995
X-APPLE-STRUCTURED-LOCATION;VALUE=URI;X-ADDRESS=DR Koncerthuset Ørestads Boulevard 13 København S 2300;X-APPLE-RADIUS=500;X-TITLE=Ørestads Boulevard 13:geo:12.588995,55.6578426
END:VEVENT
END:VCALENDAR