BEGIN:VCALENDAR
VERSION:2.0
PRODID:-//Folkalender - ECPv6.10.1.1//NONSGML v1.0//EN
CALSCALE:GREGORIAN
METHOD:PUBLISH
X-WR-CALNAME:Folkalender
X-ORIGINAL-URL:https://folkalender.dk
X-WR-CALDESC:Begivenheder for Folkalender
REFRESH-INTERVAL;VALUE=DURATION:PT1H
X-Robots-Tag:noindex
X-PUBLISHED-TTL:PT1H
BEGIN:VTIMEZONE
TZID:Europe/Helsinki
BEGIN:DAYLIGHT
TZOFFSETFROM:+0200
TZOFFSETTO:+0300
TZNAME:EEST
DTSTART:20230326T010000
END:DAYLIGHT
BEGIN:STANDARD
TZOFFSETFROM:+0300
TZOFFSETTO:+0200
TZNAME:EET
DTSTART:20231029T010000
END:STANDARD
BEGIN:DAYLIGHT
TZOFFSETFROM:+0200
TZOFFSETTO:+0300
TZNAME:EEST
DTSTART:20240331T010000
END:DAYLIGHT
BEGIN:STANDARD
TZOFFSETFROM:+0300
TZOFFSETTO:+0200
TZNAME:EET
DTSTART:20241027T010000
END:STANDARD
BEGIN:DAYLIGHT
TZOFFSETFROM:+0200
TZOFFSETTO:+0300
TZNAME:EEST
DTSTART:20250330T010000
END:DAYLIGHT
BEGIN:STANDARD
TZOFFSETFROM:+0300
TZOFFSETTO:+0200
TZNAME:EET
DTSTART:20251026T010000
END:STANDARD
END:VTIMEZONE
BEGIN:VEVENT
DTSTART;VALUE=DATE:20250927
DTEND;VALUE=DATE:20250928
DTSTAMP:20260421T124410
CREATED:20250117T125255Z
LAST-MODIFIED:20250117T131145Z
UID:11078-1758931200-1759017599@folkalender.dk
SUMMARY:“Thyregodtræf 2025” Folkemusik og folkedans
DESCRIPTION:Folkemusik\, folkedans og hyggeligt samvær. Der er undervisning i 9 valgfrie grupper og orkesterspil. Dagen slutter med folkedansebal og jam med dansk og irsk folkemusik.
URL:https://folkalender.dk/arrangement/thyregodtraef-2025-folkemusik-og-folkedans/2025-09-27/
LOCATION:Thyregod Skole\, Skolegade 4\, Thyregod\, Give\, 7323\, Danmark
CATEGORIES:Kursus
ATTACH;FMTTYPE=image/png:https://folkalender.dk/wp-content/uploads/2025/01/Thyregodtraef-2025-side-2.png
ORGANIZER;CN="Thyregod Spillem%C3%A6nd/Manny":MAILTO:mannyskj@gmail.com
GEO:55.9070639;9.260561
X-APPLE-STRUCTURED-LOCATION;VALUE=URI;X-ADDRESS=Thyregod Skole Skolegade 4 Thyregod Give 7323 Danmark;X-APPLE-RADIUS=500;X-TITLE=Skolegade 4\, Thyregod:geo:9.260561,55.9070639
END:VEVENT
BEGIN:VEVENT
DTSTART;TZID=Europe/Helsinki:20250525T140000
DTEND;TZID=Europe/Helsinki:20250725T170000
DTSTAMP:20260421T124410
CREATED:20250430T155655Z
LAST-MODIFIED:20250430T160019Z
UID:12119-1748181600-1753462800@folkalender.dk
SUMMARY:Folkemusik på sommerscenen
DESCRIPTION:Folkemusik på sommerscenen i Skyttehushaven i Vejle.\nMandagsmusikanterne\, Give\, Søndermarkens spillemænd\, Vejle og Thyregod spillemænd spiller folkemusik.
URL:https://folkalender.dk/arrangement/folkemusik-paa-sommerscenen/
LOCATION:Skyttehushaven i Vejle\, Trisbæk Strandvej\, Skyttehushaven\, Tirsbæk Strandvej v/Helligkildevej\, Vejle\, 7100
CATEGORIES:Koncert
ORGANIZER;CN="Thyregod Spillem%C3%A6nd/Manny":MAILTO:mannyskj@gmail.com
GEO:55.7075816;9.5665749
X-APPLE-STRUCTURED-LOCATION;VALUE=URI;X-ADDRESS=Skyttehushaven i Vejle Trisbæk Strandvej Skyttehushaven Tirsbæk Strandvej v/Helligkildevej Vejle 7100;X-APPLE-RADIUS=500;X-TITLE=Skyttehushaven\, Tirsbæk Strandvej v/Helligkildevej:geo:9.5665749,55.7075816
END:VEVENT
BEGIN:VEVENT
DTSTART;VALUE=DATE:20240928
DTEND;VALUE=DATE:20240929
DTSTAMP:20260421T124410
CREATED:20240918T061540Z
LAST-MODIFIED:20240918T061540Z
UID:9971-1727481600-1727567999@folkalender.dk
SUMMARY:"Thyregodtræf 2024" Folkemusik og dans
DESCRIPTION:“Thyregodtræf” er et folkemusik- og dansetræf med undervisning i valgfrie grupper i løbet af dagen og om aftenen er der folkedansebal\, Fanøbal og irsk jam.
URL:https://folkalender.dk/arrangement/thyregodtraef-2024-folkemusik-og-dans/
LOCATION:Thyregod Skole\, Skolegade 4\, Thyregod\, Give\, 7323\, Danmark
CATEGORIES:Kursus
ATTACH;FMTTYPE=image/jpeg:https://folkalender.dk/wp-content/uploads/2024/09/Thyregodtraef-2024-s-1.jpg
ORGANIZER;CN="Thyregod Spillem%C3%A6nd/Manny":MAILTO:mannyskj@gmail.com
GEO:55.9070639;9.260561
X-APPLE-STRUCTURED-LOCATION;VALUE=URI;X-ADDRESS=Thyregod Skole Skolegade 4 Thyregod Give 7323 Danmark;X-APPLE-RADIUS=500;X-TITLE=Skolegade 4\, Thyregod:geo:9.260561,55.9070639
END:VEVENT
BEGIN:VEVENT
DTSTART;VALUE=DATE:20231028
DTEND;VALUE=DATE:20231030
DTSTAMP:20260421T124410
CREATED:20230512T182255Z
LAST-MODIFIED:20230512T182946Z
UID:6357-1698451200-1698623999@folkalender.dk
SUMMARY:Thyregodtræf 2023 - folkemusik og folkedans
DESCRIPTION:Masser af spillemandsmusik\, folkedans og hyggeligt samvær. Der er undervisning i grupper og orkesterspil.\nDagen slutter med folkedansebal\, Fanøbal og Irsk Jam
URL:https://folkalender.dk/arrangement/thyregodtraef-2023-folkemusik-og-folkedans/
LOCATION:Thyregod Skole\, Skolegade 4\, Thyregod\, Give\, 7323\, Danmark
CATEGORIES:Spilleworkshop
ATTACH;FMTTYPE=image/jpeg:https://folkalender.dk/wp-content/uploads/2023/05/Thyregodtraef-Forside.jpg
ORGANIZER;CN="Thyregod Spillem%C3%A6nd/Manny":MAILTO:mannyskj@gmail.com
GEO:55.9070639;9.260561
X-APPLE-STRUCTURED-LOCATION;VALUE=URI;X-ADDRESS=Thyregod Skole Skolegade 4 Thyregod Give 7323 Danmark;X-APPLE-RADIUS=500;X-TITLE=Skolegade 4\, Thyregod:geo:9.260561,55.9070639
END:VEVENT
BEGIN:VEVENT
DTSTART;TZID=Europe/Helsinki:20230625T140000
DTEND;TZID=Europe/Helsinki:20230625T170000
DTSTAMP:20260421T124410
CREATED:20230512T183642Z
LAST-MODIFIED:20230512T184605Z
UID:6362-1687701600-1687712400@folkalender.dk
SUMMARY:Folkemusik på sommerscenen i Skyttehushaven
DESCRIPTION:Folkemusik på sommerscenen – her spiller Mandagsmusikanterne\, Give\, Søndermarkens Spillemænd\, Vejle og Thyregod Spillemænd.
URL:https://folkalender.dk/arrangement/folkemusik-paa-sommerscenen-i-skyttehushaven/
LOCATION:Skyttehushaven i Vejle\, Trisbæk Strandvej\, Skyttehushaven\, Tirsbæk Strandvej v/Helligkildevej\, Vejle\, 7100
CATEGORIES:Koncert
ATTACH;FMTTYPE=image/jpeg:https://folkalender.dk/wp-content/uploads/2023/05/Folkemusik_paa_sommerscenen-25.6.2023-scaled.jpg
ORGANIZER;CN="Thyregod Spillem%C3%A6nd/Manny":MAILTO:mannyskj@gmail.com
GEO:55.7075816;9.5665749
X-APPLE-STRUCTURED-LOCATION;VALUE=URI;X-ADDRESS=Skyttehushaven i Vejle Trisbæk Strandvej Skyttehushaven Tirsbæk Strandvej v/Helligkildevej Vejle 7100;X-APPLE-RADIUS=500;X-TITLE=Skyttehushaven\, Tirsbæk Strandvej v/Helligkildevej:geo:9.5665749,55.7075816
END:VEVENT
END:VCALENDAR