BEGIN:VCALENDAR
VERSION:2.0
PRODID:-//Folkalender - ECPv6.10.1.1//NONSGML v1.0//EN
CALSCALE:GREGORIAN
METHOD:PUBLISH
X-WR-CALNAME:Folkalender
X-ORIGINAL-URL:https://folkalender.dk
X-WR-CALDESC:Begivenheder for Folkalender
REFRESH-INTERVAL;VALUE=DURATION:PT1H
X-Robots-Tag:noindex
X-PUBLISHED-TTL:PT1H
BEGIN:VTIMEZONE
TZID:Europe/Helsinki
BEGIN:DAYLIGHT
TZOFFSETFROM:+0200
TZOFFSETTO:+0300
TZNAME:EEST
DTSTART:20230326T010000
END:DAYLIGHT
BEGIN:STANDARD
TZOFFSETFROM:+0300
TZOFFSETTO:+0200
TZNAME:EET
DTSTART:20231029T010000
END:STANDARD
BEGIN:DAYLIGHT
TZOFFSETFROM:+0200
TZOFFSETTO:+0300
TZNAME:EEST
DTSTART:20240331T010000
END:DAYLIGHT
BEGIN:STANDARD
TZOFFSETFROM:+0300
TZOFFSETTO:+0200
TZNAME:EET
DTSTART:20241027T010000
END:STANDARD
END:VTIMEZONE
BEGIN:VEVENT
DTSTART;TZID=Europe/Helsinki:20240609T140000
DTEND;TZID=Europe/Helsinki:20240609T170000
DTSTAMP:20260419T213929
CREATED:20240425T110350Z
LAST-MODIFIED:20241120T202721Z
UID:8593-1717941600-1717952400@folkalender.dk
SUMMARY:Søndagsdans på Museum Rebild
DESCRIPTION:Hver søndag eftermiddag året rundt inviterer Rebild Spillemændene til gammeldans i museets sal. Repertoiret er for alle\, også nybegyndere i gammeldans og folkedans.  \nTraditionen med søndagsdans har eksisteret siden museets start i 1951. Her vedligeholdes den himmerlandske dansetradition\, som den har været kendt i mange generationer. Det foregår som et regulært bal\, hvor musikken leveres af en af gruppe fra Rebild Spillemandslaug.  \nSom nybegynder er der rig mulighed for at danse med rutinerede dansere\, hvilket er en god måde at lære trinene på. Alle kan deltage\, selv om de ikke kender til folkedans i forvejen. Der er erfarne dansere\, som kan lære fra sig\, så alle får et par sjove og lærerige timer og måske bliver bidt af folkedansen. Der danses i et par timer\, afbrudt af en kaffepause\, hvor der kan købes kaffe og brød i museets cafe. Café og butik er åben søndage fra kl 13. Der er mulighed for at forudbestille kaffe og kage kl.14 når musikken starter\, så er det klar til pausen kl. 15.30.
URL:https://folkalender.dk/arrangement/soendagsdans-paa-museum-rebild/2024-06-09/
LOCATION:Museum Rebild\, Rebildvej 25B\, Rebild\, Skørping\, 9520
CATEGORIES:Bal,Legestue
ATTACH;FMTTYPE=image/jpeg:https://folkalender.dk/wp-content/uploads/2024/04/dans_i_Salen.jpg
ORGANIZER;CN="Museum Rebild":MAILTO:spillemandsmuseet@mail.dk
END:VEVENT
BEGIN:VEVENT
DTSTART;TZID=Europe/Helsinki:20240602T140000
DTEND;TZID=Europe/Helsinki:20240602T170000
DTSTAMP:20260419T213929
CREATED:20240425T110350Z
LAST-MODIFIED:20241120T202721Z
UID:8592-1717336800-1717347600@folkalender.dk
SUMMARY:Søndagsdans på Museum Rebild
DESCRIPTION:Hver søndag eftermiddag året rundt inviterer Rebild Spillemændene til gammeldans i museets sal. Repertoiret er for alle\, også nybegyndere i gammeldans og folkedans.  \nTraditionen med søndagsdans har eksisteret siden museets start i 1951. Her vedligeholdes den himmerlandske dansetradition\, som den har været kendt i mange generationer. Det foregår som et regulært bal\, hvor musikken leveres af en af gruppe fra Rebild Spillemandslaug.  \nSom nybegynder er der rig mulighed for at danse med rutinerede dansere\, hvilket er en god måde at lære trinene på. Alle kan deltage\, selv om de ikke kender til folkedans i forvejen. Der er erfarne dansere\, som kan lære fra sig\, så alle får et par sjove og lærerige timer og måske bliver bidt af folkedansen. Der danses i et par timer\, afbrudt af en kaffepause\, hvor der kan købes kaffe og brød i museets cafe. Café og butik er åben søndage fra kl 13. Der er mulighed for at forudbestille kaffe og kage kl.14 når musikken starter\, så er det klar til pausen kl. 15.30.
URL:https://folkalender.dk/arrangement/soendagsdans-paa-museum-rebild/2024-06-02/
LOCATION:Museum Rebild\, Rebildvej 25B\, Rebild\, Skørping\, 9520
CATEGORIES:Bal,Legestue
ATTACH;FMTTYPE=image/jpeg:https://folkalender.dk/wp-content/uploads/2024/04/dans_i_Salen.jpg
ORGANIZER;CN="Museum Rebild":MAILTO:spillemandsmuseet@mail.dk
END:VEVENT
BEGIN:VEVENT
DTSTART;TZID=Europe/Helsinki:20240526T140000
DTEND;TZID=Europe/Helsinki:20240526T170000
DTSTAMP:20260419T213929
CREATED:20240425T110350Z
LAST-MODIFIED:20241120T202720Z
UID:8591-1716732000-1716742800@folkalender.dk
SUMMARY:Søndagsdans på Museum Rebild
DESCRIPTION:Hver søndag eftermiddag året rundt inviterer Rebild Spillemændene til gammeldans i museets sal. Repertoiret er for alle\, også nybegyndere i gammeldans og folkedans.  \nTraditionen med søndagsdans har eksisteret siden museets start i 1951. Her vedligeholdes den himmerlandske dansetradition\, som den har været kendt i mange generationer. Det foregår som et regulært bal\, hvor musikken leveres af en af gruppe fra Rebild Spillemandslaug.  \nSom nybegynder er der rig mulighed for at danse med rutinerede dansere\, hvilket er en god måde at lære trinene på. Alle kan deltage\, selv om de ikke kender til folkedans i forvejen. Der er erfarne dansere\, som kan lære fra sig\, så alle får et par sjove og lærerige timer og måske bliver bidt af folkedansen. Der danses i et par timer\, afbrudt af en kaffepause\, hvor der kan købes kaffe og brød i museets cafe. Café og butik er åben søndage fra kl 13. Der er mulighed for at forudbestille kaffe og kage kl.14 når musikken starter\, så er det klar til pausen kl. 15.30.
URL:https://folkalender.dk/arrangement/soendagsdans-paa-museum-rebild/2024-05-26/
LOCATION:Museum Rebild\, Rebildvej 25B\, Rebild\, Skørping\, 9520
CATEGORIES:Bal,Legestue
ATTACH;FMTTYPE=image/jpeg:https://folkalender.dk/wp-content/uploads/2024/04/dans_i_Salen.jpg
ORGANIZER;CN="Museum Rebild":MAILTO:spillemandsmuseet@mail.dk
END:VEVENT
BEGIN:VEVENT
DTSTART;TZID=Europe/Helsinki:20240519T140000
DTEND;TZID=Europe/Helsinki:20240519T170000
DTSTAMP:20260419T213929
CREATED:20240425T110350Z
LAST-MODIFIED:20241120T202720Z
UID:8590-1716127200-1716138000@folkalender.dk
SUMMARY:Søndagsdans på Museum Rebild
DESCRIPTION:Hver søndag eftermiddag året rundt inviterer Rebild Spillemændene til gammeldans i museets sal. Repertoiret er for alle\, også nybegyndere i gammeldans og folkedans.  \nTraditionen med søndagsdans har eksisteret siden museets start i 1951. Her vedligeholdes den himmerlandske dansetradition\, som den har været kendt i mange generationer. Det foregår som et regulært bal\, hvor musikken leveres af en af gruppe fra Rebild Spillemandslaug.  \nSom nybegynder er der rig mulighed for at danse med rutinerede dansere\, hvilket er en god måde at lære trinene på. Alle kan deltage\, selv om de ikke kender til folkedans i forvejen. Der er erfarne dansere\, som kan lære fra sig\, så alle får et par sjove og lærerige timer og måske bliver bidt af folkedansen. Der danses i et par timer\, afbrudt af en kaffepause\, hvor der kan købes kaffe og brød i museets cafe. Café og butik er åben søndage fra kl 13. Der er mulighed for at forudbestille kaffe og kage kl.14 når musikken starter\, så er det klar til pausen kl. 15.30.
URL:https://folkalender.dk/arrangement/soendagsdans-paa-museum-rebild/2024-05-19/
LOCATION:Museum Rebild\, Rebildvej 25B\, Rebild\, Skørping\, 9520
CATEGORIES:Bal,Legestue
ATTACH;FMTTYPE=image/jpeg:https://folkalender.dk/wp-content/uploads/2024/04/dans_i_Salen.jpg
ORGANIZER;CN="Museum Rebild":MAILTO:spillemandsmuseet@mail.dk
END:VEVENT
BEGIN:VEVENT
DTSTART;TZID=Europe/Helsinki:20240512T140000
DTEND;TZID=Europe/Helsinki:20240512T170000
DTSTAMP:20260419T213929
CREATED:20240425T110350Z
LAST-MODIFIED:20241120T202720Z
UID:8589-1715522400-1715533200@folkalender.dk
SUMMARY:Søndagsdans på Museum Rebild
DESCRIPTION:Hver søndag eftermiddag året rundt inviterer Rebild Spillemændene til gammeldans i museets sal. Repertoiret er for alle\, også nybegyndere i gammeldans og folkedans.  \nTraditionen med søndagsdans har eksisteret siden museets start i 1951. Her vedligeholdes den himmerlandske dansetradition\, som den har været kendt i mange generationer. Det foregår som et regulært bal\, hvor musikken leveres af en af gruppe fra Rebild Spillemandslaug.  \nSom nybegynder er der rig mulighed for at danse med rutinerede dansere\, hvilket er en god måde at lære trinene på. Alle kan deltage\, selv om de ikke kender til folkedans i forvejen. Der er erfarne dansere\, som kan lære fra sig\, så alle får et par sjove og lærerige timer og måske bliver bidt af folkedansen. Der danses i et par timer\, afbrudt af en kaffepause\, hvor der kan købes kaffe og brød i museets cafe. Café og butik er åben søndage fra kl 13. Der er mulighed for at forudbestille kaffe og kage kl.14 når musikken starter\, så er det klar til pausen kl. 15.30.
URL:https://folkalender.dk/arrangement/soendagsdans-paa-museum-rebild/2024-05-12/
LOCATION:Museum Rebild\, Rebildvej 25B\, Rebild\, Skørping\, 9520
CATEGORIES:Bal,Legestue
ATTACH;FMTTYPE=image/jpeg:https://folkalender.dk/wp-content/uploads/2024/04/dans_i_Salen.jpg
ORGANIZER;CN="Museum Rebild":MAILTO:spillemandsmuseet@mail.dk
END:VEVENT
BEGIN:VEVENT
DTSTART;TZID=Europe/Helsinki:20240505T140000
DTEND;TZID=Europe/Helsinki:20240505T170000
DTSTAMP:20260419T213929
CREATED:20240425T110350Z
LAST-MODIFIED:20241120T202720Z
UID:8588-1714917600-1714928400@folkalender.dk
SUMMARY:Søndagsdans på Museum Rebild
DESCRIPTION:Hver søndag eftermiddag året rundt inviterer Rebild Spillemændene til gammeldans i museets sal. Repertoiret er for alle\, også nybegyndere i gammeldans og folkedans.  \nTraditionen med søndagsdans har eksisteret siden museets start i 1951. Her vedligeholdes den himmerlandske dansetradition\, som den har været kendt i mange generationer. Det foregår som et regulært bal\, hvor musikken leveres af en af gruppe fra Rebild Spillemandslaug.  \nSom nybegynder er der rig mulighed for at danse med rutinerede dansere\, hvilket er en god måde at lære trinene på. Alle kan deltage\, selv om de ikke kender til folkedans i forvejen. Der er erfarne dansere\, som kan lære fra sig\, så alle får et par sjove og lærerige timer og måske bliver bidt af folkedansen. Der danses i et par timer\, afbrudt af en kaffepause\, hvor der kan købes kaffe og brød i museets cafe. Café og butik er åben søndage fra kl 13. Der er mulighed for at forudbestille kaffe og kage kl.14 når musikken starter\, så er det klar til pausen kl. 15.30.
URL:https://folkalender.dk/arrangement/soendagsdans-paa-museum-rebild/2024-05-05/
LOCATION:Museum Rebild\, Rebildvej 25B\, Rebild\, Skørping\, 9520
CATEGORIES:Bal,Legestue
ATTACH;FMTTYPE=image/jpeg:https://folkalender.dk/wp-content/uploads/2024/04/dans_i_Salen.jpg
ORGANIZER;CN="Museum Rebild":MAILTO:spillemandsmuseet@mail.dk
END:VEVENT
BEGIN:VEVENT
DTSTART;TZID=Europe/Helsinki:20240428T140000
DTEND;TZID=Europe/Helsinki:20240428T170000
DTSTAMP:20260419T213929
CREATED:20240425T110350Z
LAST-MODIFIED:20241120T202720Z
UID:8586-1714312800-1714323600@folkalender.dk
SUMMARY:Søndagsdans på Museum Rebild
DESCRIPTION:Hver søndag eftermiddag året rundt inviterer Rebild Spillemændene til gammeldans i museets sal. Repertoiret er for alle\, også nybegyndere i gammeldans og folkedans.  \nTraditionen med søndagsdans har eksisteret siden museets start i 1951. Her vedligeholdes den himmerlandske dansetradition\, som den har været kendt i mange generationer. Det foregår som et regulært bal\, hvor musikken leveres af en af gruppe fra Rebild Spillemandslaug.  \nSom nybegynder er der rig mulighed for at danse med rutinerede dansere\, hvilket er en god måde at lære trinene på. Alle kan deltage\, selv om de ikke kender til folkedans i forvejen. Der er erfarne dansere\, som kan lære fra sig\, så alle får et par sjove og lærerige timer og måske bliver bidt af folkedansen. Der danses i et par timer\, afbrudt af en kaffepause\, hvor der kan købes kaffe og brød i museets cafe. Café og butik er åben søndage fra kl 13. Der er mulighed for at forudbestille kaffe og kage kl.14 når musikken starter\, så er det klar til pausen kl. 15.30.
URL:https://folkalender.dk/arrangement/soendagsdans-paa-museum-rebild/2024-04-28/
LOCATION:Museum Rebild\, Rebildvej 25B\, Rebild\, Skørping\, 9520
CATEGORIES:Bal,Legestue
ATTACH;FMTTYPE=image/jpeg:https://folkalender.dk/wp-content/uploads/2024/04/dans_i_Salen.jpg
ORGANIZER;CN="Museum Rebild":MAILTO:spillemandsmuseet@mail.dk
END:VEVENT
BEGIN:VEVENT
DTSTART;TZID=Europe/Helsinki:20240317T120000
DTEND;TZID=Europe/Helsinki:20240317T133000
DTSTAMP:20260419T213929
CREATED:20240214T101808Z
LAST-MODIFIED:20240214T102313Z
UID:8091-1710676800-1710682200@folkalender.dk
SUMMARY:Workshop med Randers menuetten og søndagsdans på Museum Rebild
DESCRIPTION:Workshop og søndagsdans på Museum Rebild \nRanders Menuet og Kren Skippers Firtur \nLænges du efter dem… eller ved du ikke hvordan de skal danses? Fortvivl ikke. Muligheden er der nu!!! \nSøndag den 17.marts kl. 12 – 13.30\, skal vi danse\, lære og genopfriske dem\,  bagefter er der Søndagsdans fra kl. 14 – 17. \nIngen tilmelding. Kom som du er!\nVejviser: dansemester Niels Bundgård\nMusikken leveres af Rebild Spillemændene \nSted: Museum Rebild\, Rebildvej 25B\, 9520 Skørping
URL:https://folkalender.dk/arrangement/workshop-i-randers-menuetten-og-soendagsdans-paa-museum-rebild/
LOCATION:Museum Rebild\, Rebildvej 25B\, Rebild\, Skørping\, 9520
CATEGORIES:Bal,Danseworkshop,Legestue
ATTACH;FMTTYPE=image/jpeg:https://folkalender.dk/wp-content/uploads/2024/02/MENUET.jpg
ORGANIZER;CN="Museum Rebild":MAILTO:spillemandsmuseet@mail.dk
END:VEVENT
BEGIN:VEVENT
DTSTART;TZID=Europe/Helsinki:20231001T130000
DTEND;TZID=Europe/Helsinki:20231001T170000
DTSTAMP:20260419T213929
CREATED:20230918T084616Z
LAST-MODIFIED:20230918T085409Z
UID:7023-1696165200-1696179600@folkalender.dk
SUMMARY:Temadans: Rækkedanse - ”de lange danse” i Himmerland på Spillemandsmuseet i Rebild
DESCRIPTION:Til søndagsdansen på spillemandmuseet i Rebild spilles der ofte forskellige rækkedanse\, som tager afsæt i det himmerlandske danserepertoire. Feder Mikkel og Den gale totur er nogle af dem.\nI Østhimmerland havde man rækkedanse\, der blev sammensat i suiter. Folk i Als kaldte dem ” De lange Danse”. Eksempelvis – firtur\, sekstur og ottetur\, med lidt lokale variationer. \nSøndag den 1. oktober skal vi øve ”de lange danse” fra kl 13-14 – med hjælp af dansemester Niels Bundgård.\nFra kl 14 spilles der som sædvanlig op til søndagsdans og monikke dér også bliver spillet lidt rækkedanse.\nPrisen for det hele er almindelig søndagsentre på 40 kr. Adresse Museum Rebild\, Rebildvej 25B\, Rebild.
URL:https://folkalender.dk/arrangement/temadans-raekkedanse-de-lange-danse-i-himmerland-paa-spillemandsmuseet-i-rebild/
LOCATION:Museum Rebild\, Rebildvej 25B\, Rebild\, Skørping\, 9520
CATEGORIES:Bal,Danseworkshop
ATTACH;FMTTYPE=image/jpeg:https://folkalender.dk/wp-content/uploads/2023/09/raekkedans.jpg
ORGANIZER;CN="Rebild Spillem%C3%A6ndene":MAILTO:spillemandsmuseet@mail.dk
END:VEVENT
BEGIN:VEVENT
DTSTART;TZID=Europe/Helsinki:20230705T193000
DTEND;TZID=Europe/Helsinki:20230705T213000
DTSTAMP:20260419T213929
CREATED:20230430T083351Z
LAST-MODIFIED:20230430T084005Z
UID:6278-1688585400-1688592600@folkalender.dk
SUMMARY:Sommerdans og sommerspil på Museum Rebild.
DESCRIPTION:Vi spiller og danser udendørs ved Museet eller i Rebildporten og du inviteres til at spille\, danse med.\nHvis vejret er dårligt går vi indenfor på museet.  \nSæsonen starter onsdag den 5.juli kl. 19.30 hver onsdag til og med den 2.august 2022.  \nCafeen på museet er åben imens og du kan købe kaffe og brød i pausen\, hvor vi også synger fællessange. \nVi spiller med udgangspunkt i onsdagsspillemændenes repertoire. Læs mere og find noder på http://folkemusikarkivet.dk/ under onsdagsspillemænd. \nDen almindelige søndagsdans kører som sædvanlig hele året rundt søndage kl 14-17.
URL:https://folkalender.dk/arrangement/sommerdans-og-sommerspil-paa-museum-rebild/2023-07-05/
LOCATION:Museum Rebild\, Rebildvej 25B\, Rebild\, Skørping\, 9520
CATEGORIES:Bal,Jam
ATTACH;FMTTYPE=image/jpeg:https://folkalender.dk/wp-content/uploads/2023/04/sommerdans.jpg
ORGANIZER;CN="Museum Rebild":MAILTO:spillemandsmuseet@mail.dk
END:VEVENT
BEGIN:VEVENT
DTSTART;TZID=Europe/Helsinki:20230624T130000
DTEND;TZID=Europe/Helsinki:20230624T230000
DTSTAMP:20260419T213929
CREATED:20230430T082136Z
LAST-MODIFIED:20230430T082913Z
UID:6273-1687611600-1687647600@folkalender.dk
SUMMARY:Rebild Folkemusiktræf 2023
DESCRIPTION:Museum Rebild og Rebild Spillemændene er igen klar med det traditionsrige Rebild Folkemusiktræf. \nForrygende dansemusik leveres af bla: Himmerlands Danse og Spillemandslaug\, Støvring Harmonikaklub\, Spillemandslauget Østjyderne\, Op’lev Harmonikavennerne\, Nibe Harmonikaklub\, Pigernes Fornøjelse 25 år\, Flauenskjold Harmonika Orkester\, Rebildkvadrillen/Spillemandskredsen og Rebild Spillemændene.  \nBuskspil – Fri scene – Storspil – Alle kan være med !\nDans\, gammeldans og folkedans med instruktion.\nKom og oplev den lokale folkemusik i fuldt flor ! \nNB: Aftensmad: 80\,- kr. – Bestil på MobilePay 40 80 48 02 – Senest 18/6. \nTræffet finder sted på:\nKulturstationen i Skørping\nSverriggårdsvej 4\, 9520 Skørping
URL:https://folkalender.dk/arrangement/rebild-folkemusiktraef-2023/
LOCATION:KulturStationen\, 9520 Skørping\, Sverriggårdsvej 4\, Skørping\, 9520
CATEGORIES:Bal,Festival,Legestue,Spilleworkshop,Stævne
ATTACH;FMTTYPE=image/jpeg:https://folkalender.dk/wp-content/uploads/2023/04/PlakatBillede2023800-1.jpg
ORGANIZER;CN="Rebild Spillem%C3%A6ndene":MAILTO:spillemandsmuseet@mail.dk
GEO:56.8358368;9.887984
X-APPLE-STRUCTURED-LOCATION;VALUE=URI;X-ADDRESS=KulturStationen 9520 Skørping Sverriggårdsvej 4 Skørping 9520;X-APPLE-RADIUS=500;X-TITLE=Sverriggårdsvej 4:geo:9.887984,56.8358368
END:VEVENT
END:VCALENDAR