BEGIN:VCALENDAR
VERSION:2.0
PRODID:-//Folkalender - ECPv6.10.1.1//NONSGML v1.0//EN
CALSCALE:GREGORIAN
METHOD:PUBLISH
X-WR-CALNAME:Folkalender
X-ORIGINAL-URL:https://folkalender.dk
X-WR-CALDESC:Begivenheder for Folkalender
REFRESH-INTERVAL;VALUE=DURATION:PT1H
X-Robots-Tag:noindex
X-PUBLISHED-TTL:PT1H
BEGIN:VTIMEZONE
TZID:Europe/Helsinki
BEGIN:DAYLIGHT
TZOFFSETFROM:+0200
TZOFFSETTO:+0300
TZNAME:EEST
DTSTART:20230326T010000
END:DAYLIGHT
BEGIN:STANDARD
TZOFFSETFROM:+0300
TZOFFSETTO:+0200
TZNAME:EET
DTSTART:20231029T010000
END:STANDARD
END:VTIMEZONE
BEGIN:VEVENT
DTSTART;TZID=Europe/Helsinki:20231103T190000
DTEND;TZID=Europe/Helsinki:20231103T190000
DTSTAMP:20260420T121840
CREATED:20231013T101421Z
LAST-MODIFIED:20231013T103214Z
UID:7237-1699038000-1699038000@folkalender.dk
SUMMARY:TRADISH + Irish Revival – Irsk aften
DESCRIPTION:Irsk aften i Langtved forsamlingshus med to spændende bands: IRISH REVIVAL er et nydannet lokalt band med Joe Reilly i front\, der spiller de gode\, kendte irske sange. TRADISH blev dannet i 2009 og har optrådt på hundredvis af scener på tværs af Europa og som en del af den levende irske musiktradition spiller Tradish sig ind i en spændende og livsbekræftende blanding af det gamle og det nye\, fortid og nutid\, med en stærk forankring og respekt for rødderne.\nFredag den 3. november kl. 19. Pris: 300 kroner\, inklusiv spisning.
URL:https://folkalender.dk/arrangement/tradish-irsk-aften/
LOCATION:Langtved Forsamlingshus\, Langtvedvej 15\, Ullerslev\, 5540
CATEGORIES:Koncert
ATTACH;FMTTYPE=image/jpeg:https://folkalender.dk/wp-content/uploads/2023/10/thumb500-909573610d01c1b40a17131c4993f9280acaae.jpg
ORGANIZER;CN="Langtved Forsamlingshus":MAILTO:info@langtvedforsamlingshus.dk
GEO:55.3947109;10.6882838
X-APPLE-STRUCTURED-LOCATION;VALUE=URI;X-ADDRESS=Langtved Forsamlingshus Langtvedvej 15 Ullerslev 5540;X-APPLE-RADIUS=500;X-TITLE=Langtvedvej 15:geo:10.6882838,55.3947109
END:VEVENT
END:VCALENDAR