BEGIN:VCALENDAR
VERSION:2.0
PRODID:-//Folkalender - ECPv6.10.1.1//NONSGML v1.0//EN
CALSCALE:GREGORIAN
METHOD:PUBLISH
X-ORIGINAL-URL:https://folkalender.dk
X-WR-CALDESC:Begivenheder for Folkalender
REFRESH-INTERVAL;VALUE=DURATION:PT1H
X-Robots-Tag:noindex
X-PUBLISHED-TTL:PT1H
BEGIN:VTIMEZONE
TZID:Europe/Helsinki
BEGIN:DAYLIGHT
TZOFFSETFROM:+0200
TZOFFSETTO:+0300
TZNAME:EEST
DTSTART:20230326T010000
END:DAYLIGHT
BEGIN:STANDARD
TZOFFSETFROM:+0300
TZOFFSETTO:+0200
TZNAME:EET
DTSTART:20231029T010000
END:STANDARD
END:VTIMEZONE
BEGIN:VEVENT
DTSTART;TZID=Europe/Helsinki:20230805T123000
DTEND;TZID=Europe/Helsinki:20230805T140000
DTSTAMP:20260421T193622
CREATED:20230803T110811Z
LAST-MODIFIED:20230803T112247Z
UID:6675-1691238600-1691244000@folkalender.dk
SUMMARY:Vandrekoncert med Ida Wenøe & Hal Parfitt-Murray
DESCRIPTION:Vandrekoncert m. Ida Wenøe og Hal Parfitt-Murray \nVi skyder den nye sæson i gang med den fortryllende og fantastiske sangskriver\, Ida Wenøe. Ida og hendes violinist Hal Parfitt-Murray tager publikum i hånden og går gennem Horsens\, med indlagte akustiske koncertpauser. \nVi mødes på Kulturstationen kl. 12:30 og slutter på Platform K ca. kl. 14:00. \nArrangeres i samarbejde med Platform K. \nVi skal på vandrekoncert – find os og vær med!\nIda Wenøe spiller sine fantastiske sange – helt akustisk. \nKulturstationen 12:30\nVitus Berings Parken 13:00\nPlatform K 13:40 \nFuld tidsplan\, Ida Wenøe vandrekoncert: \n12:30 Musikere og publikum mødes ved Kulturstationen\n12:30 Ida og Hal spiller et par sange – gerne udendørs uden forstærkning (med mulighed for at rykke ind på Kulturstationen i tilfælde af dårligt vejr) \n12:45 Vi går mod Vitus Berings Parken (Google maps siger 9 minutters gang)\n13:00 Alle ankommet til Vitus Berings Parken\n13:00 Ida og Hal spiller et par sange uden forstærkning \n13:15 Vi går mod Platform K\n13:35 Alle ankommet til Platform K (Google maps siger 14 minutters gang)\n13:40 Ida og Hal spiller et par sange – gerne udendørs uden forstærkning (med mulighed for at rykke ind på Platform K i tilfælde af dårligt vejr) \n14:00 Tak for idag \nFor alle \nGRATIS ENTRE
URL:https://folkalender.dk/arrangement/vandrekoncert-med-ida-wenoee-hal-parfitt-murray/
LOCATION:Kulturstationen Horsens\, Skolegade 7-9\, Horsens\, 8700
CATEGORIES:Koncert
ATTACH;FMTTYPE=image/png:https://folkalender.dk/wp-content/uploads/2023/08/Ida-Wenoee-Undersea-press-photo-photo-Ida-Wenoee.png
GEO:55.8635466;9.8515003
X-APPLE-STRUCTURED-LOCATION;VALUE=URI;X-ADDRESS=Kulturstationen Horsens Skolegade 7-9 Horsens 8700;X-APPLE-RADIUS=500;X-TITLE=Skolegade 7-9:geo:9.8515003,55.8635466
END:VEVENT
END:VCALENDAR