BEGIN:VCALENDAR
VERSION:2.0
PRODID:-//Folkalender - ECPv6.10.1.1//NONSGML v1.0//EN
CALSCALE:GREGORIAN
METHOD:PUBLISH
X-ORIGINAL-URL:https://folkalender.dk
X-WR-CALDESC:Begivenheder for Folkalender
REFRESH-INTERVAL;VALUE=DURATION:PT1H
X-Robots-Tag:noindex
X-PUBLISHED-TTL:PT1H
BEGIN:VTIMEZONE
TZID:Europe/Helsinki
BEGIN:DAYLIGHT
TZOFFSETFROM:+0200
TZOFFSETTO:+0300
TZNAME:EEST
DTSTART:20220327T010000
END:DAYLIGHT
BEGIN:STANDARD
TZOFFSETFROM:+0300
TZOFFSETTO:+0200
TZNAME:EET
DTSTART:20221030T010000
END:STANDARD
BEGIN:DAYLIGHT
TZOFFSETFROM:+0200
TZOFFSETTO:+0300
TZNAME:EEST
DTSTART:20230326T010000
END:DAYLIGHT
BEGIN:STANDARD
TZOFFSETFROM:+0300
TZOFFSETTO:+0200
TZNAME:EET
DTSTART:20231029T010000
END:STANDARD
BEGIN:DAYLIGHT
TZOFFSETFROM:+0200
TZOFFSETTO:+0300
TZNAME:EEST
DTSTART:20240331T010000
END:DAYLIGHT
BEGIN:STANDARD
TZOFFSETFROM:+0300
TZOFFSETTO:+0200
TZNAME:EET
DTSTART:20241027T010000
END:STANDARD
END:VTIMEZONE
BEGIN:VEVENT
DTSTART;TZID=Europe/Helsinki:20240701T190000
DTEND;TZID=Europe/Helsinki:20240701T210000
DTSTAMP:20260419T151840
CREATED:20240531T072231Z
LAST-MODIFIED:20240531T072540Z
UID:8875-1719860400-1719867600@folkalender.dk
SUMMARY:Dans I Munke Mose
DESCRIPTION:Alle er velkomne til at danse med\, når Fynboerne mødes i mosen til dans. Vi danser både kredsdanse og pardanse\, så tag dine sommergæster med til en hyggelig aften.
URL:https://folkalender.dk/arrangement/dans-i-munke-mose/2024-07-01/
LOCATION:Munke mose\, 5000 Odense
CATEGORIES:Bal
ATTACH;FMTTYPE=image/jpeg:https://folkalender.dk/wp-content/uploads/2024/05/Fynboerne1.jpg
GEO:55.4098387;10.4033485
END:VEVENT
BEGIN:VEVENT
DTSTART;TZID=Europe/Helsinki:20240624T190000
DTEND;TZID=Europe/Helsinki:20240624T210000
DTSTAMP:20260419T151840
CREATED:20240531T072231Z
LAST-MODIFIED:20240531T072540Z
UID:8873-1719255600-1719262800@folkalender.dk
SUMMARY:Dans I Munke Mose
DESCRIPTION:Alle er velkomne til at danse med\, når Fynboerne mødes i mosen til dans. Vi danser både kredsdanse og pardanse\, så tag dine sommergæster med til en hyggelig aften.
URL:https://folkalender.dk/arrangement/dans-i-munke-mose/2024-06-24/
LOCATION:Munke mose\, 5000 Odense
CATEGORIES:Bal
ATTACH;FMTTYPE=image/jpeg:https://folkalender.dk/wp-content/uploads/2024/05/Fynboerne1.jpg
GEO:55.4098387;10.4033485
END:VEVENT
BEGIN:VEVENT
DTSTART;TZID=Europe/Helsinki:20240529T190000
DTEND;TZID=Europe/Helsinki:20240529T214500
DTSTAMP:20260419T151840
CREATED:20231211T135836Z
LAST-MODIFIED:20231211T135836Z
UID:7664-1717009200-1717019100@folkalender.dk
SUMMARY:Fynbo bal
DESCRIPTION:Folkemusiklauget Fynboerne spiller op til dans. Allerede fra kl. 18.30 er det muligt at lære nogle trin og enkle danse\, så du kan være med når ballet starter kl. 19.00. Alle er velkomne. Øl\, vand\, kaffe og kage købes i baren. Gratis adgang.
URL:https://folkalender.dk/arrangement/fynbo-bal/2024-05-29/
LOCATION:Kulturmaskinen Odense\, Farvergården 7\, Odense\, 5000
CATEGORIES:Bal
ATTACH;FMTTYPE=image/jpeg:https://folkalender.dk/wp-content/uploads/2023/12/20231129_195635-scaled.jpg
GEO:55.3955926;10.3808671
X-APPLE-STRUCTURED-LOCATION;VALUE=URI;X-ADDRESS=Kulturmaskinen Odense Farvergården 7 Odense 5000;X-APPLE-RADIUS=500;X-TITLE=Farvergården 7:geo:10.3808671,55.3955926
END:VEVENT
BEGIN:VEVENT
DTSTART;TZID=Europe/Helsinki:20240508T193000
DTEND;TZID=Europe/Helsinki:20240508T223000
DTSTAMP:20260419T151840
CREATED:20231211T133909Z
LAST-MODIFIED:20231211T133909Z
UID:7644-1715196600-1715207400@folkalender.dk
SUMMARY:Bal med tral
DESCRIPTION:Duoen Mia Guldhammer & Morten Alfred Høirups levende tilgang til såvel den danske sangtradition som den traditionelle dansemusik har\, sammen med deres egne kompositioner og deres tætte samspil med publikum\, vakt opmærksomhed rundt i det ganske land\, med koncerter på bl.a. Musik over Præstø Fjord\, FOD\, Hagges Musikpub\, Maskinhallen\, Musik mellem Fjordene m.m. Til dette bal har de inviteret en af dansk folkemusiks stærkeste solister\, violinist og rigsspillemand Kristian Bugge med som gæst. Sammen arrangerer de tre musikere danske folkesange og traditionel dansemusik for mundmusik (Tral/Diddling)\, violin\, guitar\, mundharmonika og indisk shruti box. Tral til Bal kalder de det selv. Og danserne inddrages\, de synger med på omkvædene og tager dermed del i at skabe en helt særlig aften med dans og sang. Ballet er støttet økonomisk af Odense Kulturudvalg og Statens Kunstfond. Entré 100 kr.\, dog kun 50 kr. for unge under 25 år\, folk med tilknytning til Aftenskolen 17:48\, Grønland og medlemmer af Folkemusiklauget Fynboerne.
URL:https://folkalender.dk/arrangement/bal-med-tral/
LOCATION:Kulturmaskinen Odense\, Farvergården 7\, Odense\, 5000
CATEGORIES:Bal
ATTACH;FMTTYPE=image/jpeg:https://folkalender.dk/wp-content/uploads/2023/12/Mia-Morten-Kristian-okt-2021-scaled.jpg
GEO:55.3955926;10.3808671
X-APPLE-STRUCTURED-LOCATION;VALUE=URI;X-ADDRESS=Kulturmaskinen Odense Farvergården 7 Odense 5000;X-APPLE-RADIUS=500;X-TITLE=Farvergården 7:geo:10.3808671,55.3955926
END:VEVENT
BEGIN:VEVENT
DTSTART;TZID=Europe/Helsinki:20240424T190000
DTEND;TZID=Europe/Helsinki:20240424T214500
DTSTAMP:20260419T151840
CREATED:20231211T135836Z
LAST-MODIFIED:20231211T135836Z
UID:7663-1713985200-1713995100@folkalender.dk
SUMMARY:Fynbo bal
DESCRIPTION:Folkemusiklauget Fynboerne spiller op til dans. Allerede fra kl. 18.30 er det muligt at lære nogle trin og enkle danse\, så du kan være med når ballet starter kl. 19.00. Alle er velkomne. Øl\, vand\, kaffe og kage købes i baren. Gratis adgang.
URL:https://folkalender.dk/arrangement/fynbo-bal/2024-04-24/
LOCATION:Kulturmaskinen Odense\, Farvergården 7\, Odense\, 5000
CATEGORIES:Bal
ATTACH;FMTTYPE=image/jpeg:https://folkalender.dk/wp-content/uploads/2023/12/20231129_195635-scaled.jpg
GEO:55.3955926;10.3808671
X-APPLE-STRUCTURED-LOCATION;VALUE=URI;X-ADDRESS=Kulturmaskinen Odense Farvergården 7 Odense 5000;X-APPLE-RADIUS=500;X-TITLE=Farvergården 7:geo:10.3808671,55.3955926
END:VEVENT
BEGIN:VEVENT
DTSTART;TZID=Europe/Helsinki:20240421T133000
DTEND;TZID=Europe/Helsinki:20240421T153000
DTSTAMP:20260419T151840
CREATED:20231211T135020Z
LAST-MODIFIED:20231211T135020Z
UID:7653-1713706200-1713713400@folkalender.dk
SUMMARY:Familiedans
DESCRIPTION:Tag et barn ved hånden og kom denne søndag eftermiddag til Kulturmaskinen. Folkemusiklauget Fynboerne spiller til og Nicolas Sigvaldsen instruerer. Alle kan være med og alle er velkomne. Gratis adgang. Sodavand\, kaffe og kage kan købes i baren.
URL:https://folkalender.dk/arrangement/familiedans-4/2024-04-21/
LOCATION:Kulturmaskinen Odense\, Farvergården 7\, Odense\, 5000
CATEGORIES:Bal
ATTACH;FMTTYPE=image/jpeg:https://folkalender.dk/wp-content/uploads/2023/12/20231001_135324-scaled.jpg
GEO:55.3955926;10.3808671
X-APPLE-STRUCTURED-LOCATION;VALUE=URI;X-ADDRESS=Kulturmaskinen Odense Farvergården 7 Odense 5000;X-APPLE-RADIUS=500;X-TITLE=Farvergården 7:geo:10.3808671,55.3955926
END:VEVENT
BEGIN:VEVENT
DTSTART;TZID=Europe/Helsinki:20240419T193000
DTEND;TZID=Europe/Helsinki:20240419T223000
DTSTAMP:20260419T151840
CREATED:20231211T133545Z
LAST-MODIFIED:20231211T133545Z
UID:7641-1713555000-1713565800@folkalender.dk
SUMMARY:Bal med Jensen & Bugge
DESCRIPTION:Harmonikaspilleren Mette Kathrine Jensen Stærk og violinisten Kristian Bugge dannede i 2001 folkemusikduoen JENSEN & BUGGE. Siden har de spillet swingende og energisk dansk folkemusik rundt omkring i verden. Glæd jer til at opleve de to rigsspillemænd denne aften i Kulturmaskinen i Odense. Ballet er støttet økonomisk af Odense Kulturudvalg og Statens Kunstfond. Entré 100 kr.\, dog kun 50 kr. for unge under 25 år\, folk med tilknytning til Aftenskolen 17:48\, Grønland og medlemmer af Folkemusiklauget Fynboerne.
URL:https://folkalender.dk/arrangement/bal-med-jensen-bugge-3/
LOCATION:Kulturmaskinen Odense\, Farvergården 7\, Odense\, 5000
CATEGORIES:Bal
ATTACH;FMTTYPE=image/jpeg:https://folkalender.dk/wp-content/uploads/2023/12/jb-foto-trappe-1-scaled.jpg
GEO:55.3955926;10.3808671
X-APPLE-STRUCTURED-LOCATION;VALUE=URI;X-ADDRESS=Kulturmaskinen Odense Farvergården 7 Odense 5000;X-APPLE-RADIUS=500;X-TITLE=Farvergården 7:geo:10.3808671,55.3955926
END:VEVENT
BEGIN:VEVENT
DTSTART;TZID=Europe/Helsinki:20240301T193000
DTEND;TZID=Europe/Helsinki:20240301T223000
DTSTAMP:20260419T151840
CREATED:20231211T133216Z
LAST-MODIFIED:20231211T133216Z
UID:7638-1709321400-1709332200@folkalender.dk
SUMMARY:Bal med FUG
DESCRIPTION:FUG= Folkemusik Uden Grænse. Et ungt dansk balband\, der er kendt for sit raske tempo og energiske groove. FUG spiller kendte dansemelodier fra Danmark\, krydret med enkelte egne kompositioner og med en god blanding af violin\, bas\, guitar og harmonika har bandet en fantastisk sound. Bandet har eksisteret siden april 2011 og har siden spillet til en række arrangementer rundt i landet.\nFUG består af: Nanna Søndergaard Larsen – Violin\, Nathasja Vosgerau Hansen – Violin\, Frederik Engedal Smidt – Guitar\, Simon Busk Andersen – Bas\, Christian Albertsen – Harmonika. er støttet økonomisk af Odense Kulturudvalg og Statens Kunstfond. Entré 100 kr.\, dog kun 50 kr. for unge under 25 år\, folk med tilknytning til Aftenskolen 17:48\, Grønland og medlemmer af Folkemusiklauget Fynboerne.
URL:https://folkalender.dk/arrangement/bal-med-fug-2/
LOCATION:Kulturmaskinen Odense\, Farvergården 7\, Odense\, 5000
CATEGORIES:Bal
ATTACH;FMTTYPE=image/jpeg:https://folkalender.dk/wp-content/uploads/2023/12/facebook_1702295197256_7139943555033572663.jpg
GEO:55.3955926;10.3808671
X-APPLE-STRUCTURED-LOCATION;VALUE=URI;X-ADDRESS=Kulturmaskinen Odense Farvergården 7 Odense 5000;X-APPLE-RADIUS=500;X-TITLE=Farvergården 7:geo:10.3808671,55.3955926
END:VEVENT
BEGIN:VEVENT
DTSTART;TZID=Europe/Helsinki:20240131T190000
DTEND;TZID=Europe/Helsinki:20240131T214500
DTSTAMP:20260419T151840
CREATED:20231211T135836Z
LAST-MODIFIED:20231211T135836Z
UID:7657-1706727600-1706737500@folkalender.dk
SUMMARY:Fynbo bal
DESCRIPTION:Folkemusiklauget Fynboerne spiller op til dans. Allerede fra kl. 18.30 er det muligt at lære nogle trin og enkle danse\, så du kan være med når ballet starter kl. 19.00. Alle er velkomne. Øl\, vand\, kaffe og kage købes i baren. Gratis adgang.
URL:https://folkalender.dk/arrangement/fynbo-bal/2024-01-31/
LOCATION:Kulturmaskinen Odense\, Farvergården 7\, Odense\, 5000
CATEGORIES:Bal
ATTACH;FMTTYPE=image/jpeg:https://folkalender.dk/wp-content/uploads/2023/12/20231129_195635-scaled.jpg
GEO:55.3955926;10.3808671
X-APPLE-STRUCTURED-LOCATION;VALUE=URI;X-ADDRESS=Kulturmaskinen Odense Farvergården 7 Odense 5000;X-APPLE-RADIUS=500;X-TITLE=Farvergården 7:geo:10.3808671,55.3955926
END:VEVENT
BEGIN:VEVENT
DTSTART;TZID=Europe/Helsinki:20231129T190000
DTEND;TZID=Europe/Helsinki:20231129T220000
DTSTAMP:20260419T151840
CREATED:20221227T144357Z
LAST-MODIFIED:20221227T144357Z
UID:5209-1701284400-1701295200@folkalender.dk
SUMMARY:Kom og dans
DESCRIPTION:Svendborg Danse og Spillemandslaug og Folkemusiklauget Fynboerne spiller op til dans. Allerede kl. 18.30 kan du komme og lære nogle grundtrin så du lettere kan være med når ballet starter
URL:https://folkalender.dk/arrangement/kom-og-dans-8/
LOCATION:Kulturmaskinen Odense\, Farvergården 7\, Odense\, 5000
CATEGORIES:Bal
GEO:55.3955926;10.3808671
X-APPLE-STRUCTURED-LOCATION;VALUE=URI;X-ADDRESS=Kulturmaskinen Odense Farvergården 7 Odense 5000;X-APPLE-RADIUS=500;X-TITLE=Farvergården 7:geo:10.3808671,55.3955926
END:VEVENT
BEGIN:VEVENT
DTSTART;TZID=Europe/Helsinki:20231115T190000
DTEND;TZID=Europe/Helsinki:20231115T220000
DTSTAMP:20260419T151840
CREATED:20230604T092435Z
LAST-MODIFIED:20230604T092800Z
UID:6447-1700074800-1700085600@folkalender.dk
SUMMARY:Kom og dans
DESCRIPTION:Folkemusiklauget Fynboerne spiller op til dans og alle er velkomne til at danse med. Allerede kl 18.30 kan du komme og lære nogle grundtrin så du lettere kan være med når ballet starter
URL:https://folkalender.dk/arrangement/kom-og-dans-11/
LOCATION:Kulturmaskinen Odense\, Farvergården 7\, Odense\, 5000
CATEGORIES:Bal
ATTACH;FMTTYPE=image/jpeg:https://folkalender.dk/wp-content/uploads/2023/06/20230531_205756-1-scaled.jpg
GEO:55.3955926;10.3808671
X-APPLE-STRUCTURED-LOCATION;VALUE=URI;X-ADDRESS=Kulturmaskinen Odense Farvergården 7 Odense 5000;X-APPLE-RADIUS=500;X-TITLE=Farvergården 7:geo:10.3808671,55.3955926
END:VEVENT
BEGIN:VEVENT
DTSTART;TZID=Europe/Helsinki:20231103T193000
DTEND;TZID=Europe/Helsinki:20231103T223000
DTSTAMP:20260419T151840
CREATED:20221227T143948Z
LAST-MODIFIED:20221227T143948Z
UID:5203-1699039800-1699050600@folkalender.dk
SUMMARY:Farvergade
DESCRIPTION:Gruppen består af  Clara Tesch\, Julian Svejgaard Jørgensen og Mads Kjøller Henningsen og har taget navn efter stedet de spiller til dans I København. Arrangementet er støttet af Odense Musikudvalg\, Kunststyrelsen og Marie Rasmussens Fond
URL:https://folkalender.dk/arrangement/farvergade/
LOCATION:Kulturmaskinen Odense\, Farvergården 7\, Odense\, 5000
CATEGORIES:Bal
GEO:55.3955926;10.3808671
X-APPLE-STRUCTURED-LOCATION;VALUE=URI;X-ADDRESS=Kulturmaskinen Odense Farvergården 7 Odense 5000;X-APPLE-RADIUS=500;X-TITLE=Farvergården 7:geo:10.3808671,55.3955926
END:VEVENT
BEGIN:VEVENT
DTSTART;TZID=Europe/Helsinki:20231025T190000
DTEND;TZID=Europe/Helsinki:20231025T220000
DTSTAMP:20260419T151840
CREATED:20221227T135742Z
LAST-MODIFIED:20221227T135810Z
UID:5182-1698260400-1698271200@folkalender.dk
SUMMARY:Kom og dans
DESCRIPTION:Folkemusiklauget Fynboerne spiller op til dans og alle er velkomne til at danse med. Allerede kl. 18.30 kan du komme og lære nogle grundtrin så du lettere kan være med når ballet starter
URL:https://folkalender.dk/arrangement/kom-og-dans-7/
LOCATION:Kulturmaskinen Odense\, Farvergården 7\, Odense\, 5000
CATEGORIES:Bal
GEO:55.3955926;10.3808671
X-APPLE-STRUCTURED-LOCATION;VALUE=URI;X-ADDRESS=Kulturmaskinen Odense Farvergården 7 Odense 5000;X-APPLE-RADIUS=500;X-TITLE=Farvergården 7:geo:10.3808671,55.3955926
END:VEVENT
BEGIN:VEVENT
DTSTART;TZID=Europe/Helsinki:20231018T190000
DTEND;TZID=Europe/Helsinki:20231018T220000
DTSTAMP:20260419T151840
CREATED:20230604T092222Z
LAST-MODIFIED:20231017T071220Z
UID:6444-1697655600-1697666400@folkalender.dk
SUMMARY:Kom og dans I Rosenbækhuset
DESCRIPTION:Folkemusiklauget Fynboerne spiller op til dans og alle er velkomne til at danse med. Allerede kl 18.30 kan du komme og lære nogle grundtrin så du lettere kan være med når ballet starter. NB Flyttet til Rosenbækhuset NB
URL:https://folkalender.dk/arrangement/kom-og-dans-10/
LOCATION:Rosenbækhuset Odense\, Rosenbæk Torv 30\, Odense\, 5000
CATEGORIES:Bal
ATTACH;FMTTYPE=image/jpeg:https://folkalender.dk/wp-content/uploads/2023/06/20230531_205719-scaled.jpg
GEO:55.3948054;10.3795503
X-APPLE-STRUCTURED-LOCATION;VALUE=URI;X-ADDRESS=Rosenbækhuset Odense Rosenbæk Torv 30 Odense 5000;X-APPLE-RADIUS=500;X-TITLE=Rosenbæk Torv 30:geo:10.3795503,55.3948054
END:VEVENT
BEGIN:VEVENT
DTSTART;TZID=Europe/Helsinki:20231001T133000
DTEND;TZID=Europe/Helsinki:20231001T153000
DTSTAMP:20260419T151840
CREATED:20221227T145514Z
LAST-MODIFIED:20221227T145514Z
UID:5217-1696167000-1696174200@folkalender.dk
SUMMARY:Familiedans
DESCRIPTION:Rune Dyekjær Pedersen instruerer og Folkemusiklauget Fynboerne spiller til familiedans. Børn\, unge og ældre kan være med. Kom og få en sjov eftermiddag.
URL:https://folkalender.dk/arrangement/familiedans-3/
LOCATION:Kulturmaskinen Odense\, Farvergården 7\, Odense\, 5000
CATEGORIES:Bal
GEO:55.3955926;10.3808671
X-APPLE-STRUCTURED-LOCATION;VALUE=URI;X-ADDRESS=Kulturmaskinen Odense Farvergården 7 Odense 5000;X-APPLE-RADIUS=500;X-TITLE=Farvergården 7:geo:10.3808671,55.3955926
END:VEVENT
BEGIN:VEVENT
DTSTART;TZID=Europe/Helsinki:20230927T190000
DTEND;TZID=Europe/Helsinki:20230927T220000
DTSTAMP:20260419T151840
CREATED:20221227T135447Z
LAST-MODIFIED:20221227T135457Z
UID:5178-1695841200-1695852000@folkalender.dk
SUMMARY:Kom og dans
DESCRIPTION:Folkemusiklauget Fynboerne spiller op til dans og alle er velkomne til at danse med. Allerede kl 18.30 kan du komme og lære nogle grundtrin så du lettere kan være med når ballet starter
URL:https://folkalender.dk/arrangement/kom-og-dans-6/
LOCATION:Kulturmaskinen Odense\, Farvergården 7\, Odense\, 5000
CATEGORIES:Bal
GEO:55.3955926;10.3808671
X-APPLE-STRUCTURED-LOCATION;VALUE=URI;X-ADDRESS=Kulturmaskinen Odense Farvergården 7 Odense 5000;X-APPLE-RADIUS=500;X-TITLE=Farvergården 7:geo:10.3808671,55.3955926
END:VEVENT
BEGIN:VEVENT
DTSTART;TZID=Europe/Helsinki:20230922T193000
DTEND;TZID=Europe/Helsinki:20230922T223000
DTSTAMP:20260419T151840
CREATED:20221227T142610Z
LAST-MODIFIED:20221227T143400Z
UID:5199-1695411000-1695421800@folkalender.dk
SUMMARY:Mads Hansens Kapel
DESCRIPTION:Martin Strange Lorenzen\, Jonas Lærke Clausen\, Emil Ringtved Nielsen\, Sebastian Boesgaard Bloch og Julian Svejgaard Jørgensen er Mads Hansens Kapel. Arrangementet er støttet af Odense Musikudvalg  Kunststyrelsen og Marie Rasmussens Fond
URL:https://folkalender.dk/arrangement/mads-hansens-kapel/
LOCATION:Kulturmaskinen Odense\, Farvergården 7\, Odense\, 5000
CATEGORIES:Bal
GEO:55.3955926;10.3808671
X-APPLE-STRUCTURED-LOCATION;VALUE=URI;X-ADDRESS=Kulturmaskinen Odense Farvergården 7 Odense 5000;X-APPLE-RADIUS=500;X-TITLE=Farvergården 7:geo:10.3808671,55.3955926
END:VEVENT
BEGIN:VEVENT
DTSTART;TZID=Europe/Helsinki:20230913T190000
DTEND;TZID=Europe/Helsinki:20230913T220000
DTSTAMP:20260419T151840
CREATED:20230604T091743Z
LAST-MODIFIED:20230604T092053Z
UID:6440-1694631600-1694642400@folkalender.dk
SUMMARY:Kom og dans
DESCRIPTION:Folkemusiklauget Fynboerne spiller op til dans og alle er velkomne til at danse med. Allerede kl 18.30 kan du komme og lære nogle grundtrin så du lettere kan være med når ballet starter
URL:https://folkalender.dk/arrangement/kom-og-dans-9/
LOCATION:Kulturmaskinen Odense\, Farvergården 7\, Odense\, 5000
CATEGORIES:Bal
ATTACH;FMTTYPE=image/jpeg:https://folkalender.dk/wp-content/uploads/2023/06/20230531_205845-1-scaled.jpg
GEO:55.3955926;10.3808671
X-APPLE-STRUCTURED-LOCATION;VALUE=URI;X-ADDRESS=Kulturmaskinen Odense Farvergården 7 Odense 5000;X-APPLE-RADIUS=500;X-TITLE=Farvergården 7:geo:10.3808671,55.3955926
END:VEVENT
BEGIN:VEVENT
DTSTART;TZID=Europe/Helsinki:20230703T190000
DTEND;TZID=Europe/Helsinki:20230703T210000
DTSTAMP:20260419T151840
CREATED:20230604T092850Z
LAST-MODIFIED:20230604T093847Z
UID:6453-1688410800-1688418000@folkalender.dk
SUMMARY:Kom og dans I mosen
DESCRIPTION:Folkemusiklauget Fynboerne spiller op til dans og alle kan være med til at danse. Så tag dine børn\, din nabo og forældre med til Odense.
URL:https://folkalender.dk/arrangement/kom-og-dans-i-mosen/2023-07-03/
LOCATION:Munke mose\, 5000 Odense
CATEGORIES:Bal
ATTACH;FMTTYPE=image/jpeg:https://folkalender.dk/wp-content/uploads/2023/06/20220711_194322-1-scaled.jpg
GEO:55.4098387;10.4033485
END:VEVENT
BEGIN:VEVENT
DTSTART;TZID=Europe/Helsinki:20230630T160000
DTEND;TZID=Europe/Helsinki:20230630T180000
DTSTAMP:20260419T151840
CREATED:20230616T104723Z
LAST-MODIFIED:20230616T105911Z
UID:6498-1688140800-1688148000@folkalender.dk
SUMMARY:Fynboerne spiller på kajen ved Fjord&Bælt\, Kerteminde.
DESCRIPTION:Folkemusiklauget FYNBOERNE spiller på kajen ved Fjord&Bælt\, Margrethes Plads 1\, Kerteminde.  \nDer er gratis adgang.\nDer kan lyttes og der kan danses til dansk spillemandsmusik. \nMusikere fra Folkemusiklauget Fynboerne spiller en række af de kendte og primært danske spillemandsmelodier.\nEnsemblet holder fast i de gamle spillemandstraditioner\, der har været en del af vores kulturarv i flere århundrede.\nMusikken er en videreførelse og en fortolkning\, der er præget af at musikken stadig påvirkes af nutidens musikere\, instrumenter m.m.\nInstrumenterne i Folkemusiklauget Fynboerne er violiner\, harmonika\, kontrabas\, ukulele og guitar.
URL:https://folkalender.dk/arrangement/fynboerne-spiller-paa-kajen-ved-fjordbaelt-kerteminde/2023-06-30/
LOCATION:Fjord&Bælt\, Margrethes Plas 1\, Kerteminde\, 5300
CATEGORIES:Bal
ATTACH;FMTTYPE=image/jpeg:https://folkalender.dk/wp-content/uploads/2023/06/0A3C8F1C-A07C-4FAF-9895-0C108A01AA62_1_201_a.jpeg
GEO:55.450229;10.661062
X-APPLE-STRUCTURED-LOCATION;VALUE=URI;X-ADDRESS=Fjord&Bælt Margrethes Plas 1 Kerteminde 5300;X-APPLE-RADIUS=500;X-TITLE=Margrethes Plas 1:geo:10.661062,55.450229
END:VEVENT
BEGIN:VEVENT
DTSTART;TZID=Europe/Helsinki:20230531T190000
DTEND;TZID=Europe/Helsinki:20230531T220000
DTSTAMP:20260419T151840
CREATED:20221227T135216Z
LAST-MODIFIED:20221227T135216Z
UID:5175-1685559600-1685570400@folkalender.dk
SUMMARY:Kom og dans
DESCRIPTION:Folkemusiklauget Fynboerne spiller op til dans og alle er velkomne. Allerede kl 18.30 kan du komme og lære nogle grundtrin så du lettere kan være med når ballet starter
URL:https://folkalender.dk/arrangement/kom-og-dans-5/
LOCATION:Kulturmaskinen Odense\, Farvergården 7\, Odense\, 5000
CATEGORIES:Bal
GEO:55.3955926;10.3808671
X-APPLE-STRUCTURED-LOCATION;VALUE=URI;X-ADDRESS=Kulturmaskinen Odense Farvergården 7 Odense 5000;X-APPLE-RADIUS=500;X-TITLE=Farvergården 7:geo:10.3808671,55.3955926
END:VEVENT
BEGIN:VEVENT
DTSTART;TZID=Europe/Helsinki:20230517T190000
DTEND;TZID=Europe/Helsinki:20230517T220000
DTSTAMP:20260419T151840
CREATED:20221227T140835Z
LAST-MODIFIED:20230223T095017Z
UID:5190-1684350000-1684360800@folkalender.dk
SUMMARY:Jørgensen & Sørensen
DESCRIPTION:Jørgensen & Sørensen spiller op til bal. Stefan Søgaard Sørensen spiller både violin og kontrabas og denne aften er han sammen med Kristian Jørgensen på klaver. Sammen leverer de et forrygende bal. Støttet af Odense Musikudvalg\, Kunststyrelsen og Marie Rasmussens Fond.
URL:https://folkalender.dk/arrangement/bal-i-odense/
LOCATION:Kulturmaskinen Odense\, Farvergården 7\, Odense\, 5000
CATEGORIES:Bal
GEO:55.3955926;10.3808671
X-APPLE-STRUCTURED-LOCATION;VALUE=URI;X-ADDRESS=Kulturmaskinen Odense Farvergården 7 Odense 5000;X-APPLE-RADIUS=500;X-TITLE=Farvergården 7:geo:10.3808671,55.3955926
END:VEVENT
BEGIN:VEVENT
DTSTART;TZID=Europe/Helsinki:20230504T193000
DTEND;TZID=Europe/Helsinki:20230504T223000
DTSTAMP:20260419T151840
CREATED:20221227T141934Z
LAST-MODIFIED:20221227T143326Z
UID:5196-1683228600-1683239400@folkalender.dk
SUMMARY:Jagdselskabet
DESCRIPTION:Steen Jagd\, Kristian Bugge og Malene D Beck udgør Jagdselskabet.    De vil denne aften spille både nykomponeret og traditionel musik til dans. Arrangementet er støttet af Odense Musikudvalg\, Kunststyrelsen og Marie Rasmussens Fond
URL:https://folkalender.dk/arrangement/jagdselskabet/
LOCATION:Kulturmaskinen Odense\, Farvergården 7\, Odense\, 5000
CATEGORIES:Bal
GEO:55.3955926;10.3808671
X-APPLE-STRUCTURED-LOCATION;VALUE=URI;X-ADDRESS=Kulturmaskinen Odense Farvergården 7 Odense 5000;X-APPLE-RADIUS=500;X-TITLE=Farvergården 7:geo:10.3808671,55.3955926
END:VEVENT
BEGIN:VEVENT
DTSTART;TZID=Europe/Helsinki:20230426T190000
DTEND;TZID=Europe/Helsinki:20230426T220000
DTSTAMP:20260419T151840
CREATED:20221227T134005Z
LAST-MODIFIED:20221227T134005Z
UID:5164-1682535600-1682546400@folkalender.dk
SUMMARY:Kom og dans
DESCRIPTION:Folkemusiklauget Fynboerne spiller op til dans og alle er velkomne. Allerede kl 18.30 er der mulighed for at du kan lære nogle grundtrin så du lettere kan være med når ballet starter.
URL:https://folkalender.dk/arrangement/kom-og-dans-3/
LOCATION:Kulturmaskinen Odense\, Farvergården 7\, Odense\, 5000
CATEGORIES:Bal
GEO:55.3955926;10.3808671
X-APPLE-STRUCTURED-LOCATION;VALUE=URI;X-ADDRESS=Kulturmaskinen Odense Farvergården 7 Odense 5000;X-APPLE-RADIUS=500;X-TITLE=Farvergården 7:geo:10.3808671,55.3955926
END:VEVENT
BEGIN:VEVENT
DTSTART;TZID=Europe/Helsinki:20230416T133000
DTEND;TZID=Europe/Helsinki:20230416T153000
DTSTAMP:20260419T151840
CREATED:20221227T145113Z
LAST-MODIFIED:20221227T145202Z
UID:5214-1681651800-1681659000@folkalender.dk
SUMMARY:Familiedans
DESCRIPTION:Rune Dyekjær Pedersen instruerer og Folkemusiklauget Fynboerne spiller til. Alle kan være med til at danse\, så tag dit barn eller barnebarn med og få en sjov eftermiddag.
URL:https://folkalender.dk/arrangement/familiedans-2/
LOCATION:Kulturmaskinen Odense\, Farvergården 7\, Odense\, 5000
CATEGORIES:Bal
GEO:55.3955926;10.3808671
X-APPLE-STRUCTURED-LOCATION;VALUE=URI;X-ADDRESS=Kulturmaskinen Odense Farvergården 7 Odense 5000;X-APPLE-RADIUS=500;X-TITLE=Farvergården 7:geo:10.3808671,55.3955926
END:VEVENT
BEGIN:VEVENT
DTSTART;TZID=Europe/Helsinki:20230414T193000
DTEND;TZID=Europe/Helsinki:20230414T223000
DTSTAMP:20260419T151840
CREATED:20221227T141507Z
LAST-MODIFIED:20221227T143212Z
UID:5193-1681500600-1681511400@folkalender.dk
SUMMARY:2 x Mouritzen + de Fries
DESCRIPTION:Ole Mouritzen på harmonika\, Jens Mouritzen på trommer samt Tove de Fries på violin kommer alle tre fra Fanø. De er kendte fra mange andre grupper\, men i aften vil vi få fornøjelse af at opleve dem sammen.  Støttet af Odense Musikudvalg\, Kunststyrelsen og Marie Rasmussens Fond
URL:https://folkalender.dk/arrangement/2-x-mouritzen-de-fries/
LOCATION:Kulturmaskinen Odense\, Farvergården 7\, Odense\, 5000
CATEGORIES:Bal
GEO:55.3955926;10.3808671
X-APPLE-STRUCTURED-LOCATION;VALUE=URI;X-ADDRESS=Kulturmaskinen Odense Farvergården 7 Odense 5000;X-APPLE-RADIUS=500;X-TITLE=Farvergården 7:geo:10.3808671,55.3955926
END:VEVENT
BEGIN:VEVENT
DTSTART;TZID=Europe/Helsinki:20230329T190000
DTEND;TZID=Europe/Helsinki:20230329T220000
DTSTAMP:20260419T151840
CREATED:20221227T134903Z
LAST-MODIFIED:20221227T134903Z
UID:5172-1680116400-1680127200@folkalender.dk
SUMMARY:Kom og dans
DESCRIPTION:Folkemusiklauget Fynboerne spiller op til dans og alle er velkomne. Allerede kl 18.30 kan du komme og lære nogle grundtrin så du lettere kan være med når ballet starter.
URL:https://folkalender.dk/arrangement/kom-og-dans-4/
LOCATION:Kulturmaskinen Odense\, Farvergården 7\, Odense\, 5000
CATEGORIES:Bal
GEO:55.3955926;10.3808671
X-APPLE-STRUCTURED-LOCATION;VALUE=URI;X-ADDRESS=Kulturmaskinen Odense Farvergården 7 Odense 5000;X-APPLE-RADIUS=500;X-TITLE=Farvergården 7:geo:10.3808671,55.3955926
END:VEVENT
BEGIN:VEVENT
DTSTART;TZID=Europe/Helsinki:20230222T190000
DTEND;TZID=Europe/Helsinki:20230222T220000
DTSTAMP:20260419T151840
CREATED:20221227T133714Z
LAST-MODIFIED:20221227T134120Z
UID:5161-1677092400-1677103200@folkalender.dk
SUMMARY:Kom og dans
DESCRIPTION:Folkemusiklauget Fynboerne spiller op til dans og alle er velkomne. Allerede kl 18.30 kan du komme og lære nogle grundtrin så du kan være med til ballet.
URL:https://folkalender.dk/arrangement/kom-og-dans-2/
LOCATION:Kulturmaskinen Odense\, Farvergården 7\, Odense\, 5000
CATEGORIES:Bal
GEO:55.3955926;10.3808671
X-APPLE-STRUCTURED-LOCATION;VALUE=URI;X-ADDRESS=Kulturmaskinen Odense Farvergården 7 Odense 5000;X-APPLE-RADIUS=500;X-TITLE=Farvergården 7:geo:10.3808671,55.3955926
END:VEVENT
BEGIN:VEVENT
DTSTART;TZID=Europe/Helsinki:20230125T190000
DTEND;TZID=Europe/Helsinki:20230125T220000
DTSTAMP:20260419T151840
CREATED:20221227T132735Z
LAST-MODIFIED:20221227T133509Z
UID:5157-1674673200-1674684000@folkalender.dk
SUMMARY:Kom og dans
DESCRIPTION:Folkemusiklauget Fynboerne spiller til bal. Vi får denne aften besøg af Fattiggårdens Spillemænd fra Korsør. Fra kl. 18.30 er det muligt at lære nogle grundtrin hvis du er begynder.
URL:https://folkalender.dk/arrangement/kom-og-dans/
LOCATION:Kulturmaskinen Odense\, Farvergården 7\, Odense\, 5000
CATEGORIES:Bal
GEO:55.3955926;10.3808671
X-APPLE-STRUCTURED-LOCATION;VALUE=URI;X-ADDRESS=Kulturmaskinen Odense Farvergården 7 Odense 5000;X-APPLE-RADIUS=500;X-TITLE=Farvergården 7:geo:10.3808671,55.3955926
END:VEVENT
BEGIN:VEVENT
DTSTART;TZID=Europe/Helsinki:20221227T080000
DTEND;TZID=Europe/Helsinki:20221227T170000
DTSTAMP:20260419T151840
CREATED:20221227T144030Z
LAST-MODIFIED:20221227T144030Z
UID:5206-1672128000-1672160400@folkalender.dk
SUMMARY:Farvergade
DESCRIPTION:Gruppen består af  Clara Tesch\, Julian Svejgaard Jørgensen og Mads Kjøller Henningsen og har taget navn efter stedet de spiller til dans I København. Arrangementet er støttet af Odense Musikudvalg\, Kunststyrelsen og Marie Rasmussens Fond
URL:https://folkalender.dk/arrangement/farvergade-2/
LOCATION:Kulturmaskinen Odense\, Farvergården 7\, Odense\, 5000
GEO:55.3955926;10.3808671
X-APPLE-STRUCTURED-LOCATION;VALUE=URI;X-ADDRESS=Kulturmaskinen Odense Farvergården 7 Odense 5000;X-APPLE-RADIUS=500;X-TITLE=Farvergården 7:geo:10.3808671,55.3955926
END:VEVENT
END:VCALENDAR