BEGIN:VCALENDAR
VERSION:2.0
PRODID:-//Folkalender - ECPv6.10.1.1//NONSGML v1.0//EN
CALSCALE:GREGORIAN
METHOD:PUBLISH
X-WR-CALNAME:Folkalender
X-ORIGINAL-URL:https://folkalender.dk
X-WR-CALDESC:Begivenheder for Folkalender
REFRESH-INTERVAL;VALUE=DURATION:PT1H
X-Robots-Tag:noindex
X-PUBLISHED-TTL:PT1H
BEGIN:VTIMEZONE
TZID:Europe/Helsinki
BEGIN:DAYLIGHT
TZOFFSETFROM:+0200
TZOFFSETTO:+0300
TZNAME:EEST
DTSTART:20230326T010000
END:DAYLIGHT
BEGIN:STANDARD
TZOFFSETFROM:+0300
TZOFFSETTO:+0200
TZNAME:EET
DTSTART:20231029T010000
END:STANDARD
BEGIN:DAYLIGHT
TZOFFSETFROM:+0200
TZOFFSETTO:+0300
TZNAME:EEST
DTSTART:20240331T010000
END:DAYLIGHT
BEGIN:STANDARD
TZOFFSETFROM:+0300
TZOFFSETTO:+0200
TZNAME:EET
DTSTART:20241027T010000
END:STANDARD
BEGIN:DAYLIGHT
TZOFFSETFROM:+0200
TZOFFSETTO:+0300
TZNAME:EEST
DTSTART:20250330T010000
END:DAYLIGHT
BEGIN:STANDARD
TZOFFSETFROM:+0300
TZOFFSETTO:+0200
TZNAME:EET
DTSTART:20251026T010000
END:STANDARD
END:VTIMEZONE
BEGIN:VEVENT
DTSTART;TZID=Europe/Helsinki:20250309T140000
DTEND;TZID=Europe/Helsinki:20250309T150000
DTSTAMP:20260421T165356
CREATED:20250108T092805Z
LAST-MODIFIED:20250108T092805Z
UID:10985-1741528800-1741532400@folkalender.dk
SUMMARY:Tubalupa Band - familiekoncert
DESCRIPTION:Sjov i gaden\, fis og ballade\, lystig musik i spandevis og fantasifulde historier som perler på en snor. Med smittende begejstring spoler de fire veloplagte Tubalupa-musikere tiden tilbage til dengang\, mor var dreng\, og leg og hittepåsomhed gik hånd i hånd: Børn kastede med makrelmadder\, cyklede rundt med benene på styret\, tørrede ituslåede æg op med naboens hund eller stak hele hånden ind i munden\, så den sad fast og skolens pedel måtte trække den ud sammen med et par mælketænder. Tubalupas iørefaldende world- og folkemusik møder alle elever i øjenhøjde i et muntert mix af musik og fortælling.
URL:https://folkalender.dk/arrangement/tubalupa-band-familiekoncert/
LOCATION:Svendborg forsamlingshus\, Lundevej\, Svendborg\, 5700
CATEGORIES:Koncert
ATTACH;FMTTYPE=image/png:https://folkalender.dk/wp-content/uploads/2025/01/IMG_0785.png
ORGANIZER;CN="Folk &amp%3B Musik":MAILTO:basunanders@gmail.com
GEO:55.0578796;10.6042279
X-APPLE-STRUCTURED-LOCATION;VALUE=URI;X-ADDRESS=Svendborg forsamlingshus Lundevej Svendborg 5700;X-APPLE-RADIUS=500;X-TITLE=Lundevej:geo:10.6042279,55.0578796
END:VEVENT
BEGIN:VEVENT
DTSTART;TZID=Europe/Helsinki:20250209T140000
DTEND;TZID=Europe/Helsinki:20250209T150000
DTSTAMP:20260421T165356
CREATED:20250108T092444Z
LAST-MODIFIED:20250108T092444Z
UID:10980-1739109600-1739113200@folkalender.dk
SUMMARY:Phønix - familiekoncert
DESCRIPTION:Tag unger og bedsteforældre under armen og lad Phønix trække jer med ind i en spændende verden af gamle melodier\, sange\, remser\, rytmer og historier\, som er vokset ud af den danske musikkultur.\nMed basklarinet\, norsk seljefløjte\, harmonika og percussion giver Phønix nyt liv til folkemusikken. Deres helt unikke lydunivers har vundet dem flere priser og ført dem rundt i store dele af verden\, på de største folk-festivaler såvel som de mest intime klubscener.
URL:https://folkalender.dk/arrangement/phoenix-familiekoncert/
LOCATION:Svendborg forsamlingshus\, Lundevej\, Svendborg\, 5700
CATEGORIES:Koncert
ATTACH;FMTTYPE=image/jpeg:https://folkalender.dk/wp-content/uploads/2025/01/IMG_0784.jpeg
ORGANIZER;CN="Folk &amp%3B Musik":MAILTO:basunanders@gmail.com
GEO:55.0578796;10.6042279
X-APPLE-STRUCTURED-LOCATION;VALUE=URI;X-ADDRESS=Svendborg forsamlingshus Lundevej Svendborg 5700;X-APPLE-RADIUS=500;X-TITLE=Lundevej:geo:10.6042279,55.0578796
END:VEVENT
BEGIN:VEVENT
DTSTART;TZID=Europe/Helsinki:20240411T200000
DTEND;TZID=Europe/Helsinki:20240411T230000
DTSTAMP:20260421T165356
CREATED:20240404T134221Z
LAST-MODIFIED:20240404T134223Z
UID:8324-1712865600-1712876400@folkalender.dk
SUMMARY:Folk-Jam
DESCRIPTION:Aftenens jam-vært er Søren Gustav\, der studerer folkemusik og dans på konservatoriet i Aarhus.\nSøren vil lede aftenens spil og fører os igennem polkaer\, valse\, schottis\, reels og jigs mm. Alle der har lyst\, og har medbragt et instrument\, kan spille med.
URL:https://folkalender.dk/arrangement/folk-jam-2/
LOCATION:Harders\, spillestedet\, Møllegade 36\, Svendborg\, 5700
CATEGORIES:Jam
ATTACH;FMTTYPE=image/jpeg:https://folkalender.dk/wp-content/uploads/2024/04/fj2-feb24-1-scaled.jpeg
ORGANIZER;CN="Folk &amp%3B Musik":MAILTO:basunanders@gmail.com
GEO:55.0177447;10.6090395
X-APPLE-STRUCTURED-LOCATION;VALUE=URI;X-ADDRESS=Harders spillestedet Møllegade 36 Svendborg 5700;X-APPLE-RADIUS=500;X-TITLE=Møllegade 36:geo:10.6090395,55.0177447
END:VEVENT
BEGIN:VEVENT
DTSTART;TZID=Europe/Helsinki:20240223T160000
DTEND;TZID=Europe/Helsinki:20240223T180000
DTSTAMP:20260421T165356
CREATED:20240217T145124Z
LAST-MODIFIED:20240217T145124Z
UID:8124-1708704000-1708711200@folkalender.dk
SUMMARY:Familiekoncert & Dans
DESCRIPTION:Koncert for børn i alderen 4-12 år og deres voksne. Efter koncerten er der familie-folkedans under vejledning af Desirée Graubæk.\nKom helt tæt på bandet Basco\, når de spiller fyrrige melodier og fortæller spøgelseshistorier!
URL:https://folkalender.dk/arrangement/familiekoncert-dans/
LOCATION:Svendborg forsamlingshus\, Lundevej\, Svendborg\, 5700
CATEGORIES:Koncert
ATTACH;FMTTYPE=image/jpeg:https://folkalender.dk/wp-content/uploads/2024/02/Familiekoncert.jpg
ORGANIZER;CN="Folk &amp%3B Musik":MAILTO:basunanders@gmail.com
GEO:55.0578796;10.6042279
X-APPLE-STRUCTURED-LOCATION;VALUE=URI;X-ADDRESS=Svendborg forsamlingshus Lundevej Svendborg 5700;X-APPLE-RADIUS=500;X-TITLE=Lundevej:geo:10.6042279,55.0578796
END:VEVENT
BEGIN:VEVENT
DTSTART;TZID=Europe/Helsinki:20240222T200000
DTEND;TZID=Europe/Helsinki:20240222T230000
DTSTAMP:20260421T165356
CREATED:20240217T143230Z
LAST-MODIFIED:20240217T144210Z
UID:8120-1708632000-1708642800@folkalender.dk
SUMMARY:Svendborg Folk-Jam
DESCRIPTION:Violinist Søren Gustav er vært ved denne hyggelig åbne jamaften på Konsulatet.\nDer bliver primært spillet akustisk instrumentalmusik: polka\, vals\, jigs\, reels\, schottis mm.
URL:https://folkalender.dk/arrangement/svendborg-folk-jam/
LOCATION:Harders\, Konsulatet\, Møllergade 36\, Svendborg\, 5700
CATEGORIES:Jam
ATTACH;FMTTYPE=image/jpeg:https://folkalender.dk/wp-content/uploads/2024/02/Folk-Jam-1-scaled.jpg
ORGANIZER;CN="Folk &amp%3B Musik":MAILTO:basunanders@gmail.com
GEO:55.0606228;10.6107491
X-APPLE-STRUCTURED-LOCATION;VALUE=URI;X-ADDRESS=Harders Konsulatet Møllergade 36 Svendborg 5700;X-APPLE-RADIUS=500;X-TITLE=Møllergade 36:geo:10.6107491,55.0606228
END:VEVENT
BEGIN:VEVENT
DTSTART;TZID=Europe/Helsinki:20231109T200000
DTEND;TZID=Europe/Helsinki:20231109T220000
DTSTAMP:20260421T165356
CREATED:20231103T112216Z
LAST-MODIFIED:20231103T113644Z
UID:7346-1699560000-1699567200@folkalender.dk
SUMMARY:Folk-Jam
DESCRIPTION:Kom og vær med til vores åbne spilleaften\, hvor alle kan jamme med\, på alt fra polka og vals til reels\, jigs og en gammel folkevise. Aftenens Jam-vært bliver offentliggjort på Harders hjemmeside.
URL:https://folkalender.dk/arrangement/folk-jam/
LOCATION:Harders\, Konsulatet\, Møllergade 36\, Svendborg\, 5700
CATEGORIES:Jam
ATTACH;FMTTYPE=image/jpeg:https://folkalender.dk/wp-content/uploads/2023/11/nordic-folk-jam-nights-insp-morten-fog-2_6ee136d9ed381585df0.jpeg
ORGANIZER;CN="Folk &amp%3B Musik":MAILTO:basunanders@gmail.com
GEO:55.0606228;10.6107491
X-APPLE-STRUCTURED-LOCATION;VALUE=URI;X-ADDRESS=Harders Konsulatet Møllergade 36 Svendborg 5700;X-APPLE-RADIUS=500;X-TITLE=Møllergade 36:geo:10.6107491,55.0606228
END:VEVENT
END:VCALENDAR