BEGIN:VCALENDAR
VERSION:2.0
PRODID:-//Folkalender - ECPv6.10.1.1//NONSGML v1.0//EN
CALSCALE:GREGORIAN
METHOD:PUBLISH
X-WR-CALNAME:Folkalender
X-ORIGINAL-URL:https://folkalender.dk
X-WR-CALDESC:Begivenheder for Folkalender
REFRESH-INTERVAL;VALUE=DURATION:PT1H
X-Robots-Tag:noindex
X-PUBLISHED-TTL:PT1H
BEGIN:VTIMEZONE
TZID:Europe/Helsinki
BEGIN:DAYLIGHT
TZOFFSETFROM:+0200
TZOFFSETTO:+0300
TZNAME:EEST
DTSTART:20260329T010000
END:DAYLIGHT
BEGIN:STANDARD
TZOFFSETFROM:+0300
TZOFFSETTO:+0200
TZNAME:EET
DTSTART:20261025T010000
END:STANDARD
END:VTIMEZONE
BEGIN:VEVENT
DTSTART;TZID=Europe/Helsinki:20260408T190000
DTEND;TZID=Europe/Helsinki:20260408T210000
DTSTAMP:20260424T124757
CREATED:20260226T103220Z
LAST-MODIFIED:20260226T103220Z
UID:14545-1775674800-1775682000@folkalender.dk
SUMMARY:Stålblå Katt // FOLK Aarhus
DESCRIPTION:Stålblå Katt er et nystartet band fra den sydlige skånske slette. Musikerne mødtes på Skurup Højskole og drager i april på turné for at møde publikum med deres bud på nutidig folkemusik.\nStålblå Katt spiller urban folkemusik med den ene fod solidt plantet i traditionen og den anden i nutiden. Med strygere\, trommer\, harmonika og sang undersøger de\, hvad der sker\, når folkemusikkens tidløse klange rammer byens beton.\nForestil dig mødet mellem åbent landskab og rå byrum – mellem fjeld og asfalt.\nKom og oplev et ungt orkester med både nerve\, nærvær og nordisk klang.
URL:https://folkalender.dk/arrangement/staalblaa-katt-folk-aarhus/
LOCATION:FOLK Aarhus\, Frederiksgade 78C\, Aarhus\, 8000\, Denmark
ATTACH;FMTTYPE=image/jpeg:https://folkalender.dk/wp-content/uploads/2026/02/slaalblaa-katt.jpg
ORGANIZER;CN="FOLK Aarhus":MAILTO:info@fo-aarhus.dk
GEO:56.1540272;10.2026816
X-APPLE-STRUCTURED-LOCATION;VALUE=URI;X-ADDRESS=FOLK Aarhus Frederiksgade 78C Aarhus 8000 Denmark;X-APPLE-RADIUS=500;X-TITLE=Frederiksgade 78C:geo:10.2026816,56.1540272
END:VEVENT
BEGIN:VEVENT
DTSTART;TZID=Europe/Helsinki:20260322T160000
DTEND;TZID=Europe/Helsinki:20260322T180000
DTSTAMP:20260424T124757
CREATED:20260224T133349Z
LAST-MODIFIED:20260224T133349Z
UID:14523-1774195200-1774202400@folkalender.dk
SUMMARY:Claudio Rabeca Solo // FOLK Aarhus
DESCRIPTION:Claudio Rabeca Solo tager publikum med ind i et musikalsk landskab\, hvor musikken bliver til levende erindring\, fælles bevægelse og modstand. Rabecaen – et gammelt folkeligt strengeinstrument – fungerer som en stemme\, der bevæger sig på tværs af tid og sted og binder historier\, viden og følelser sammen fra Pernambucos folkekultur og resten af verden.\nKoncerten er mere end en musikoplevelse. Det er et rum for nærvær\, lytten og fællesskab. Tradition forstås her ikke som noget fast eller nostalgisk\, men som noget levende og i konstant bevægelse. Læring opstår gennem kroppen\, landskabet og relationen til andre mennesker.\nDen folkelige kultur træder frem som et sted for tilhørsforhold\, udveksling og mangfoldighed – et sted\, hvor forskellighed får lov at eksistere side om side.
URL:https://folkalender.dk/arrangement/claudio-rabeca-solo-folk-aarhus/
LOCATION:FOLK Aarhus\, Frederiksgade 78C\, Aarhus\, 8000\, Denmark
CATEGORIES:Koncert
ATTACH;FMTTYPE=image/jpeg:https://folkalender.dk/wp-content/uploads/2026/02/Claudio.jpg
ORGANIZER;CN="FOLK Aarhus":MAILTO:info@fo-aarhus.dk
GEO:56.1540272;10.2026816
X-APPLE-STRUCTURED-LOCATION;VALUE=URI;X-ADDRESS=FOLK Aarhus Frederiksgade 78C Aarhus 8000 Denmark;X-APPLE-RADIUS=500;X-TITLE=Frederiksgade 78C:geo:10.2026816,56.1540272
END:VEVENT
BEGIN:VEVENT
DTSTART;TZID=Europe/Helsinki:20260321T200000
DTEND;TZID=Europe/Helsinki:20260321T220000
DTSTAMP:20260424T124757
CREATED:20260224T132934Z
LAST-MODIFIED:20260224T132934Z
UID:14516-1774123200-1774130400@folkalender.dk
SUMMARY:Ragna // FOLK Aarhus
DESCRIPTION:RAGNA (dk) har rødderne dybt nede i den traditionsrige musik fra de nordiske lande. Med deres eget energiske udtryk farver de tonerne fra fortiden med nutidig nysgerrighed. RAGNA består af Stine Elbæk\, violin og vokal\, Carina Juul Birch\, nøgleharper og Thomas Birch\, 12-strenget guitar og mandola.\nRAGNA blander traditionelle melodier og sange med nykomponerede numre\, og sætter en ære i at forny traditionen\, så den lever. Musikken har inspiration fra middelalderballader\, bluegrass og barokmusik. RAGNA har optrådt på festivalerne: Ild i Gilden\, Musik over Præstø Fjord\, Strib Vinterfestival og Tønder Festival.\nRAGNA udgav i december 2025 deres debutalbum “RAGNA”
URL:https://folkalender.dk/arrangement/ragna-folk-aarhus/
LOCATION:FOLK Aarhus\, Frederiksgade 78C\, Aarhus\, 8000\, Denmark
CATEGORIES:Koncert
ATTACH;FMTTYPE=image/jpeg:https://folkalender.dk/wp-content/uploads/2026/02/ragna.jpg
ORGANIZER;CN="FOLK Aarhus":MAILTO:info@fo-aarhus.dk
GEO:56.1540272;10.2026816
X-APPLE-STRUCTURED-LOCATION;VALUE=URI;X-ADDRESS=FOLK Aarhus Frederiksgade 78C Aarhus 8000 Denmark;X-APPLE-RADIUS=500;X-TITLE=Frederiksgade 78C:geo:10.2026816,56.1540272
END:VEVENT
BEGIN:VEVENT
DTSTART;TZID=Europe/Helsinki:20260321T193000
DTEND;TZID=Europe/Helsinki:20260321T203000
DTSTAMP:20260424T124757
CREATED:20260307T205424Z
LAST-MODIFIED:20260307T205424Z
UID:14581-1774121400-1774125000@folkalender.dk
SUMMARY:Koncert med RAGNA
DESCRIPTION:RAGNA (dk) har  rødderne dybt nede den traditionsrige musik fra de nordiske lande. Med deres eget energiske udtryk farver de tonerne fra fortiden med nutidig nysgerrighed. Med Stine Elbæk på sang og violin manes stemningen fra svundne tider frem\, solidt funderet på lyden af Carina Juuls smukt klingende nøgleharpe og Thomas Birchs 12-strengede guitar. Ragna lader tid og sted flyde sammen igennem de fællesnordiske toner og ord om dåd\, savn og håb.\nVed denne koncert fejrer RAGNA udgivelsen af deres album af samme navn som kom ud i december 2025.
URL:https://folkalender.dk/arrangement/koncert-med-ragna/
LOCATION:FOLK Aarhus\, Frederiksgade 78C\, Aarhus\, 8000\, Denmark
CATEGORIES:Koncert
ORGANIZER;CN="FOLK Aarhus":MAILTO:info@fo-aarhus.dk
GEO:56.1540272;10.2026816
X-APPLE-STRUCTURED-LOCATION;VALUE=URI;X-ADDRESS=FOLK Aarhus Frederiksgade 78C Aarhus 8000 Denmark;X-APPLE-RADIUS=500;X-TITLE=Frederiksgade 78C:geo:10.2026816,56.1540272
END:VEVENT
END:VCALENDAR