BEGIN:VCALENDAR
VERSION:2.0
PRODID:-//Folkalender - ECPv6.10.1.1//NONSGML v1.0//EN
CALSCALE:GREGORIAN
METHOD:PUBLISH
X-WR-CALNAME:Folkalender
X-ORIGINAL-URL:https://folkalender.dk
X-WR-CALDESC:Begivenheder for Folkalender
REFRESH-INTERVAL;VALUE=DURATION:PT1H
X-Robots-Tag:noindex
X-PUBLISHED-TTL:PT1H
BEGIN:VTIMEZONE
TZID:Europe/Helsinki
BEGIN:DAYLIGHT
TZOFFSETFROM:+0200
TZOFFSETTO:+0300
TZNAME:EEST
DTSTART:20240331T010000
END:DAYLIGHT
BEGIN:STANDARD
TZOFFSETFROM:+0300
TZOFFSETTO:+0200
TZNAME:EET
DTSTART:20241027T010000
END:STANDARD
END:VTIMEZONE
BEGIN:VEVENT
DTSTART;TZID=Europe/Helsinki:20240504T150000
DTEND;TZID=Europe/Helsinki:20240504T163000
DTSTAMP:20260421T211944
CREATED:20240430T083038Z
LAST-MODIFIED:20240430T083451Z
UID:8611-1714834800-1714840200@folkalender.dk
SUMMARY:Fod på gulv – projekt og ny forskning
DESCRIPTION:Fod på gulv – folkedans kan øge mental og fysisk sundhed hos udsatte unge og voksne med psykisk sygdom.\nKom og hør om forskningsresultater og mød de involverede.\nIdeal Bar\, lørdag den 4. maj\, kl. 15-16:30  \nEn del af Folkets Festival v. Dreamers’ Circus
URL:https://folkalender.dk/arrangement/fod-paa-gulv-projekt-og-ny-forskning/
LOCATION:Ideal Bar på Vega/København\, Danmark
ATTACH;FMTTYPE=image/png:https://folkalender.dk/wp-content/uploads/2024/04/Fod-paa-gulv-u.hvide-sider.png
ORGANIZER;CN="Fod p%C3%A5 gulv / Tempi":MAILTO:gerda@tempi.dk
GEO:56.26392;9.501785
END:VEVENT
END:VCALENDAR