BEGIN:VCALENDAR
VERSION:2.0
PRODID:-//Folkalender - ECPv6.10.1.1//NONSGML v1.0//EN
CALSCALE:GREGORIAN
METHOD:PUBLISH
X-ORIGINAL-URL:https://folkalender.dk
X-WR-CALDESC:Begivenheder for Folkalender
REFRESH-INTERVAL;VALUE=DURATION:PT1H
X-Robots-Tag:noindex
X-PUBLISHED-TTL:PT1H
BEGIN:VTIMEZONE
TZID:Europe/Helsinki
BEGIN:DAYLIGHT
TZOFFSETFROM:+0200
TZOFFSETTO:+0300
TZNAME:EEST
DTSTART:20220327T010000
END:DAYLIGHT
BEGIN:STANDARD
TZOFFSETFROM:+0300
TZOFFSETTO:+0200
TZNAME:EET
DTSTART:20221030T010000
END:STANDARD
END:VTIMEZONE
BEGIN:VEVENT
DTSTART;TZID=Europe/Helsinki:20221117T200000
DTEND;TZID=Europe/Helsinki:20221117T210000
DTSTAMP:20260420T230118
CREATED:20221024T101905Z
LAST-MODIFIED:20221024T101905Z
UID:4841-1668715200-1668718800@folkalender.dk
SUMMARY:Det får bära eller brista
DESCRIPTION:En nycirkusforestilling tilsat moderne folkemusik \nMed udgangspunkt i egne slægtshistorier udforsker seks kvindelig par-akrobater grænselandet mellem at bære eller briste. Tyngde og lethed. Styrke og sårbarhed. Glæde og sorg. \nGennem tiderne har kvinder båret børn\, kartoffelsække\, gryder\, vand- og mælkekander\, barnevogne ind i bilen og op ad trapper\, madvarer fra butikken\, brænde\, vasketøj…og flere børn. \nDET FÅR BÄRA ELLER BRISTA er en forestilling\, der fortæller en understøttende del af kvindehistorie med akrobatik og nutidig folkemusik.  \nPå scenen bygger de seks artister menneskelige pyramider og imponerende akrobatiske koreografier. \nForestillingen vises på DYNAMO – Odense’s lokale scene for nycirkus. Priser fra 40 kr. per billet. \nForestillingen Det får Bära
URL:https://folkalender.dk/arrangement/det-faar-bara-eller-brista/2022-11-17/
LOCATION:DYNAMO Workspace\, Byens Ø – Finlandkaj 6\, 5000 Odence C\, Finlandkaj 6\, Odense C\, 5000\, Danmark
CATEGORIES:Koncert
ORGANIZER;CN="DYNAMO":MAILTO:info@dynamoworkspace.dk
GEO:55.4080734;10.3795602
X-APPLE-STRUCTURED-LOCATION;VALUE=URI;X-ADDRESS=DYNAMO Workspace Byens Ø – Finlandkaj 6 5000 Odence C Finlandkaj 6 Odense C 5000 Danmark;X-APPLE-RADIUS=500;X-TITLE=Finlandkaj 6:geo:10.3795602,55.4080734
END:VEVENT
END:VCALENDAR