BEGIN:VCALENDAR
VERSION:2.0
PRODID:-//Folkalender - ECPv6.10.1.1//NONSGML v1.0//EN
CALSCALE:GREGORIAN
METHOD:PUBLISH
X-WR-CALNAME:Folkalender
X-ORIGINAL-URL:https://folkalender.dk
X-WR-CALDESC:Begivenheder for Folkalender
REFRESH-INTERVAL;VALUE=DURATION:PT1H
X-Robots-Tag:noindex
X-PUBLISHED-TTL:PT1H
BEGIN:VTIMEZONE
TZID:Europe/Helsinki
BEGIN:DAYLIGHT
TZOFFSETFROM:+0200
TZOFFSETTO:+0300
TZNAME:EEST
DTSTART:20240331T010000
END:DAYLIGHT
BEGIN:STANDARD
TZOFFSETFROM:+0300
TZOFFSETTO:+0200
TZNAME:EET
DTSTART:20241027T010000
END:STANDARD
END:VTIMEZONE
BEGIN:VEVENT
DTSTART;TZID=Europe/Helsinki:20240908T190000
DTEND;TZID=Europe/Helsinki:20240908T223000
DTSTAMP:20260420T235347
CREATED:20240903T061449Z
LAST-MODIFIED:20240903T061449Z
UID:9653-1725822000-1725834600@folkalender.dk
SUMMARY:Viik - Alice
DESCRIPTION:Vitalt og vedkommende take på de nordiske folkemusiktraditioner leveres af den pan-skandinaviske stjernekvintet VÍÍK. Med den karismatiske norske sangerinde Elisabeth Vik i front\, forener de skønheden og vildskaben i de ældgamle skikke og blænder op for en folkemusikalsk fest i åbningsugen på Nørre Allé.
URL:https://folkalender.dk/arrangement/viik-alice/
LOCATION:Alice\, Nørre Allé 7\, København N\, 2200
CATEGORIES:Koncert
ATTACH;FMTTYPE=image/jpeg:https://folkalender.dk/wp-content/uploads/2024/09/IMG_0279.jpeg
ORGANIZER;CN="Alice":MAILTO:info@alicecph.com
GEO:55.6865501;12.4917973
X-APPLE-STRUCTURED-LOCATION;VALUE=URI;X-ADDRESS=Alice Nørre Allé 7 København N 2200;X-APPLE-RADIUS=500;X-TITLE=Nørre Allé 7:geo:12.4917973,55.6865501
END:VEVENT
BEGIN:VEVENT
DTSTART;TZID=Europe/Helsinki:20240403T190000
DTEND;TZID=Europe/Helsinki:20240403T230000
DTSTAMP:20260420T235347
CREATED:20240223T003817Z
LAST-MODIFIED:20240223T003817Z
UID:8143-1712170800-1712185200@folkalender.dk
SUMMARY:Dobbeltkoncert Hialøse (SE) & Gangspil trio
DESCRIPTION:Kridt danseskoene til denne mageløse dobbeltkoncertaften med to førende skandinaviske folkemusiktrioer på ALICE. Svenske Hialøsa har dybe rødder i skånsk folkemusik og byder på vinuderlige møder mellem violiner i tre oktaver\, rytmisk bas\, stampende fødder og velklingende vokaler\, mens den lokale trio Gangspil spiller gamle dansemelodier fra alle Danmarks hjørner – fra vitale polkaer til sjælfulde sønderhoninger.\n⊛⊛⊛⊛⊛⊛⊛⊛⊛⊛⊛⊛⊛⊛⊛⊛⊛⊛⊛⊛⊛\nDøre kl 19:00 / Show kl 20:00\nKøb billet i forsalg: 160 dkk eksl. gebyr\nKøb billet: https://alicecph.com/event/hialoesa-se-gangspil/\nLyt:\nHialøsa: https://www.youtube.com/watch?v=PJx8W1tz2gg\nGangspil: https://youtu.be/BHmFi5XlCok\nNB: Koncerten finder sted på Stairway i Vanløse.\nNB: Koncerten er stående.\n⊛⊛⊛⊛⊛⊛⊛⊛⊛⊛⊛⊛⊛⊛⊛⊛⊛⊛⊛⊛⊛ \nHialøsa\nSvenske Hialøsa spiller traditionel musik fra Skåne og trioen er i øjeblikket aktiv med koncerten “Scanian Very Old Pop”. I vinuderlige møder mellem violiner i tre oktaver\, en rytmisk bas\, stampende fødder og velklingende vokaler\, bydes publikum på alt fra en rå polska til underfulde koraler. Lydbilledet er livligt og en kombination af nye og gamle kompositioner inspireret af traditionelle sange\, dansemelodier og Skånes historie\, fortællinger om liv og død\, og om erindringen om en fortid\, der ser mod fremtiden. Hialøsa var nomineret til årets nyopkomming på den svenske Folk och Världsmusikgalan 2023. \nLineup\nAlva Bosdottir: violin\, vokaler og fodsstomping\nMalte Zeberg: kontrabas\, stemme og fodsstomping\nLove Aamås Kjellsson: stemme\, oktavviolin\, fodsstomping og håndklap \nGangspil\nDen danske trio Gangspil er garanter for en underholdende og uforglemmelig musikalsk rejse gennem den danske folkemusik. De tre livlige musikere byder på gamle dansemelodier fra alle DKs hjørner\, deriblandt Læsø\, Fanø\, Lolland og Mors\, samt egnene omkring Thy og København\, og publikum kan forvente alt fra vitale polkaer og jigs til lyriske valse\, fejende reels og glade hopsaer\, og – ikke mindst – smukke sønderhoninger fra Fanøs berømte musiktradition. Både Kristian Bugge og Sonnich Lydom var blandt de første 12 musikere som i 2014 blev udnævnt til ”Danmarks Rigsspillemænd”\, og i 2016 modtog Gangspil to flotte statuetter ved Danish Music Award Folk. \nLineup\nKristian Bugge: violin og sang\nSonnich Lydom: mundharmonika\, harmonika og sang\nMalene Beck: klaver og Indisk harmonium \nALICE på Stairway\nMens vores koncertsal på Nørre Allé 7 renoveres\, genhuses ALICE midlertidigt på Stairway i Vanløse. \nFacebook invitation: https://fb.me/e/6fXjarvgQ
URL:https://folkalender.dk/arrangement/dobbeltkoncert-hialoese-se-gangspil-trio/
LOCATION:Alice\, Nørre Allé 7\, København N\, 2200
CATEGORIES:Koncert
ATTACH;FMTTYPE=image/jpeg:https://folkalender.dk/wp-content/uploads/2024/02/Hialoesa-Gangspil.jpg
ORGANIZER;CN="Alice":MAILTO:info@alicecph.com
GEO:55.6865501;12.4917973
X-APPLE-STRUCTURED-LOCATION;VALUE=URI;X-ADDRESS=Alice Nørre Allé 7 København N 2200;X-APPLE-RADIUS=500;X-TITLE=Nørre Allé 7:geo:12.4917973,55.6865501
END:VEVENT
END:VCALENDAR